BEGIN:VCALENDAR
VERSION:2.0
PRODID:-//ChamberMaster//Event Calendar 2.0//EN
METHOD:PUBLISH
X-PUBLISHED-TTL:P3D
REFRESH-INTERVAL:P3D
CALSCALE:GREGORIAN
BEGIN:VEVENT
DTSTART:20160326T180000Z
DTEND:20160326T200000Z
X-MICROSOFT-CDO-ALLDAYEVENT:FALSE
SUMMARY:Easter Bunny Visit
DESCRIPTION:Bring your camera and come visit the Easter Bunny at Learning Express Toys.
X-ALT-DESC;FMTTYPE=text/html:Bring your camera and come visit the Easter Bunny at Learning Express Toys.
LOCATION:Learning Express Toys The Vineyard on Memorial 7891 East 108th Street Suite X-8 Tulsa\, OK 74133
UID:e.1611.3272
SEQUENCE:3
DTSTAMP:20260419T154826Z
URL:https://portal.bixbychamber.com/events/details/easter-bunny-visit-03-26-2016-3272
END:VEVENT

END:VCALENDAR
