BEGIN:VCALENDAR
VERSION:2.0
PRODID:-//ChamberMaster//Event Calendar 2.0//EN
METHOD:PUBLISH
X-PUBLISHED-TTL:P3D
REFRESH-INTERVAL:P3D
CALSCALE:GREGORIAN
BEGIN:VEVENT
DTSTART;VALUE=DATE:20160415
DTEND;VALUE=DATE:20160417
TRANSP:TRANSPARENT
X-MICROSOFT-CDO-ALLDAYEVENT:TRUE
SUMMARY:Doc's Country Mart Tax Relief Sale !!!!!
DESCRIPTION:Great Deals to Save you Money !! Come see us at Doc's Country Mart !!
X-ALT-DESC;FMTTYPE=text/html:Great Deals to Save you Money !! Come see us at Doc&#39\;s Country Mart !!<br />\n<br />\n&nbsp\;
LOCATION:15028 S Memorial Drive Bixby\, OK 74008 (918) 366-8238
UID:e.1611.3291
SEQUENCE:3
DTSTAMP:20260419T143215Z
URL:https://portal.bixbychamber.com/events/details/doc-s-country-mart-tax-relief-sale-04-15-2016-3291
END:VEVENT

END:VCALENDAR
