BEGIN:VCALENDAR
VERSION:2.0
PRODID:-//ChamberMaster//Event Calendar 2.0//EN
METHOD:PUBLISH
X-PUBLISHED-TTL:P3D
REFRESH-INTERVAL:P3D
CALSCALE:GREGORIAN
BEGIN:VEVENT
DTSTART:20160217T233000Z
DTEND:20160218T010000Z
X-MICROSOFT-CDO-ALLDAYEVENT:FALSE
SUMMARY:DESTINATION TULSA 2025 SPEAKER SERIES
DESCRIPTION:DESTINATION TULSA 2025 SPEAKER SERIES\nA Place to Live: The key trends shaping our sense of place\n\nWhat makes a city a desirable place to live? How can its residents meaningfully alter current trajectories to ensure future prosperity? And what does "placemaking" entail? Destination Tulsa 2025 is the premier community project working to define Tulsa's competitive identity\, and now it's your opportunity to get involved in this critical process. Join TYPros and former Vancouver city planner Brent Toderian\, who knows a thing or two about creating a sense of place\, at this session where he'll detail key trends that Tulsa can capitalize on to make sure our city retains its historic identity while allowing for development and growth.\n\n\n\nIf you're interested in how green spaces\, walkable streets and neighborhood character all impact the experience of living in a city\, this series is for you! Join us for this thought-provoking evening and share your point of view on the future of our city as part of the Tulsa Regional Chamber's Destination Tulsa 2025 project.
X-ALT-DESC;FMTTYPE=text/html:<h1 align="center" style="margin-bottom:.0001pt\;text-align:center\;line-height:24.4pt\;"><span style="color:#202020\;"><span style="font-family:calibri light\;"><span style="font-size:14.0pt\;">DESTINATION&nbsp\;TULSA 2025 SPEAKER SERIES</span></span></span></h1>\n<span style="font-family:calibri light\;"><span style="font-size:14.0pt\;">A Place to Live: The key trends shaping our sense of place</span></span><br />\n<span style="font-family:calibri\,sans-serif\;"><span style="font-size:11.0pt\;">What makes a city a desirable place to live? How can its residents meaningfully alter current trajectories to ensure future&nbsp\;prosperity? And what does &quot\;placemaking&quot\; entail? </span></span><a href="http://destinationtulsa2025.com/" target="_blank"><span style="font-family:calibri\,sans-serif\;"><span style="font-size:11.0pt\;">Destination Tulsa 2025</span></span></a><span style="font-family:calibri\,sans-serif\;"><span style="font-size:11.0pt\;">&nbsp\;is the premier community project working to define Tulsa&#39\;s&nbsp\;competitive&nbsp\;identity\, and now it&#39\;s your opportunity to get involved in this critical process. Join TYPros and former Vancouver city planner Brent Toderian\, who knows a thing or two about creating a sense of place\, at this session where he&#39\;ll detail key trends that Tulsa can capitalize on to make sure our city retains its historic identity while allowing for development and growth.<br />\n<br />\nIf you&#39\;re interested in how green spaces\, walkable streets and neighborhood character all impact the experience of living in a city\, this series is for you! Join us for this thought-provoking evening and share your point of view on the future of our city as part of the Tulsa Regional Chamber&rsquo\;s Destination Tulsa 2025 project.</span></span>
LOCATION:Cyntergy AEC\, Community Room | 810 S. Cincinnati Ave
UID:e.1611.2794
SEQUENCE:3
DTSTAMP:20260419T171059Z
URL:https://portal.bixbychamber.com/events/details/destination-tulsa-2025-speaker-series-02-17-2016-2794
END:VEVENT

END:VCALENDAR
