BEGIN:VCALENDAR
VERSION:2.0
PRODID:-//ChamberMaster//Event Calendar 2.0//EN
METHOD:PUBLISH
X-PUBLISHED-TTL:P3D
REFRESH-INTERVAL:P3D
CALSCALE:GREGORIAN
BEGIN:VEVENT
DTSTART;VALUE=DATE:20160317
DTEND;VALUE=DATE:20160405
TRANSP:TRANSPARENT
X-MICROSOFT-CDO-ALLDAYEVENT:TRUE
SUMMARY:Dave & Buster's College Hoops HQ
DESCRIPTION:64 Teams. 63 Games. 21 Days of Madness. Don't miss any of the action --- watch the college basketball tournament at Dave & Buster's. We are your Hoops Headquarters!
X-ALT-DESC;FMTTYPE=text/html:64 Teams. 63 Games. 21 Days of Madness. Don&#39\;t miss any of the action --- watch the college basketball tournament at Dave &amp\; Buster&#39\;s. We are your Hoops Headquarters!
LOCATION:Dave & Buster's (71st St and Hwy 169 behind Best Buy) 6812 S. 105th E. Ave. Tulsa\, OK 74133
UID:e.1611.3276
SEQUENCE:3
DTSTAMP:20260419T143129Z
URL:https://portal.bixbychamber.com/events/details/dave-buster-s-college-hoops-hq-03-17-2016-3276
END:VEVENT

END:VCALENDAR
