BEGIN:VCALENDAR
VERSION:2.0
PRODID:-//ChamberMaster//Event Calendar 2.0//EN
METHOD:PUBLISH
X-PUBLISHED-TTL:P3D
REFRESH-INTERVAL:P3D
CALSCALE:GREGORIAN
BEGIN:VEVENT
DTSTART:20160207T233000Z
DTEND:20160208T060000Z
X-MICROSOFT-CDO-ALLDAYEVENT:FALSE
SUMMARY:Dave and Buster's SUPER BIG Watch Party!
DESCRIPTION:Watch the biggest Game of the Year in our Party Room with our SUPER BIG WATCH PARTY SPECIAL! $35 gets you all the following... TOUCHDOWN BUFFET: -Build Your Own Nacho Bar -Four Cheese Pizza Bites -Boneless Buffalo Wings -Bar Burgers -Gold Bites w/ Spicy Ketchup -Unlimited Coffee\, Tea\, & Soda -One Drink Ticket (21+) -$10.00 Power Card ALSO: -Viewing Space in our special Party Room! -Free Access to Gridiron Blitz and Red Cup Challenge for prizes! -Raffles and Flying T-SHIRTS!
X-ALT-DESC;FMTTYPE=text/html:Watch the biggest Game of the Year in our Party Room with our SUPER BIG WATCH PARTY SPECIAL! $35 gets you all the following... TOUCHDOWN BUFFET: -Build Your Own Nacho Bar -Four Cheese Pizza Bites -Boneless Buffalo Wings -Bar Burgers -Gold Bites w/ Spicy Ketchup -Unlimited Coffee\, Tea\, &amp\; Soda -One Drink Ticket (21+) -$10.00 Power Card ALSO: -Viewing Space in our special Party Room! -Free Access to Gridiron Blitz and Red Cup Challenge for prizes! -Raffles and Flying T-SHIRTS!
LOCATION:Dave and Buster's (71st St and HWY 169 behind Best Buy) 6812 S. 105th E. Ave. Tulsa\, OK 74133
UID:e.1611.2757
SEQUENCE:3
DTSTAMP:20260419T171110Z
URL:https://portal.bixbychamber.com/events/details/dave-and-buster-s-super-big-watch-party-02-07-2016-2757
END:VEVENT

END:VCALENDAR
