BEGIN:VCALENDAR
VERSION:2.0
PRODID:-//ChamberMaster//Event Calendar 2.0//EN
METHOD:PUBLISH
X-PUBLISHED-TTL:P3D
REFRESH-INTERVAL:P3D
CALSCALE:GREGORIAN
BEGIN:VEVENT
DTSTART:20160213T170000Z
DTEND:20160213T200000Z
X-MICROSOFT-CDO-ALLDAYEVENT:FALSE
SUMMARY:Dave and Buster's Family Valentine's Day Carnival
DESCRIPTION:Enjoy a day out with your loved ones at Dave and Buster's Family Valentine's Day Carnival! Saturday\, February 13th from 11AM to 2PM Cost is $10 per person Ticket Includes: One Spin on our Valentine's prize wheel\, a Super booth family photo\, a dessert station\, a power card with unlimited video game play\, a "Create Your Own" Valentine card station\, a "Find Your Valentine" Scavenger Hunt and Raffle for awesome D&B prizes! Tickets can be purchased online at: https://dnb.ticketbud.com/tulsavdaycarnival
X-ALT-DESC;FMTTYPE=text/html:Enjoy a day out with your loved ones at Dave and Buster&#39\;s Family Valentine&#39\;s Day Carnival! Saturday\, February 13th from 11AM to 2PM Cost is $10 per person Ticket Includes: One Spin on our Valentine&#39\;s prize wheel\, a Super booth family photo\, a dessert station\, a power card with unlimited video game play\, a &quot\;Create Your Own&quot\; Valentine card station\, a &quot\;Find Your Valentine&quot\; Scavenger Hunt and Raffle for awesome D&amp\;B prizes! Tickets can be purchased online at: https://dnb.ticketbud.com/tulsavdaycarnival
LOCATION:Dave and Buster's (71st St and HWY 169 behind Best Buy) 6812 S. 105th E. Ave.
UID:e.1611.2779
SEQUENCE:3
DTSTAMP:20260419T171547Z
URL:https://portal.bixbychamber.com/events/details/dave-and-buster-s-family-valentine-s-day-carnival-02-13-2016-2779
END:VEVENT

END:VCALENDAR
