BEGIN:VCALENDAR
VERSION:2.0
PRODID:-//ChamberMaster//Event Calendar 2.0//EN
METHOD:PUBLISH
X-PUBLISHED-TTL:P3D
REFRESH-INTERVAL:P3D
CALSCALE:GREGORIAN
BEGIN:VEVENT
DTSTART;VALUE=DATE:20230617
DTEND;VALUE=DATE:20230619
TRANSP:TRANSPARENT
X-MICROSOFT-CDO-ALLDAYEVENT:TRUE
SUMMARY:Daughter's\, Dingers\, ad Dad's Softball Tournament
DESCRIPTION:$150-$250 6U-16U
X-ALT-DESC;FMTTYPE=text/html:$150-$250 6U-16U
LOCATION:Bentley Sports Complex 8505 E 148th St. S\, Bixby\, OK 74008
UID:e.1611.8746
SEQUENCE:3
DTSTAMP:20260422T100221Z
URL:https://portal.bixbychamber.com/events/details/daughter-s-dingers-ad-dad-s-softball-tournament-8746
END:VEVENT

END:VCALENDAR
