BEGIN:VCALENDAR
VERSION:2.0
PRODID:-//ChamberMaster//Event Calendar 2.0//EN
METHOD:PUBLISH
X-PUBLISHED-TTL:P3D
REFRESH-INTERVAL:P3D
CALSCALE:GREGORIAN
BEGIN:VEVENT
DTSTART:20151212T010500Z
DTEND:20151212T030000Z
X-MICROSOFT-CDO-ALLDAYEVENT:FALSE
SUMMARY:Congressman Bridenstine at the Tulsa Oilers
DESCRIPTION:The Tulsa Oilers are hosting a Q & A event with Congressman Bridenstine before their game on Friday Dec. 11th in the Sky Loft Lounge.
X-ALT-DESC;FMTTYPE=text/html:<span style="font-family:times new roman\,serif\;"><span style="font-size:12.0pt\;">The Tulsa Oilers are hosting a Q &amp\; A event with Congressman Bridenstine before their game on Friday Dec. 11th in the Sky Loft Lounge.&nbsp\;</span></span>
LOCATION:
UID:e.1611.1691
SEQUENCE:3
DTSTAMP:20260419T211043Z
URL:https://portal.bixbychamber.com/events/details/congressman-bridenstine-at-the-tulsa-oilers-12-11-2015-1691
END:VEVENT

END:VCALENDAR
