BEGIN:VCALENDAR
VERSION:2.0
PRODID:-//ChamberMaster//Event Calendar 2.0//EN
METHOD:PUBLISH
X-PUBLISHED-TTL:P3D
REFRESH-INTERVAL:P3D
CALSCALE:GREGORIAN
BEGIN:VEVENT
DTSTART:20160506T150000Z
DTEND:20160506T170000Z
X-MICROSOFT-CDO-ALLDAYEVENT:FALSE
SUMMARY:C G OLSEN PC presents SMALL BUSINESS ROUNDTABLES
DESCRIPTION:WE ARE BACK !!! Friday 5/6/16 topic: BACK BY POPULAR DEMAND !! QuickBooks Online\; Meals & Entertainment\; S-Corps\; 1099's\; Tax Deductions\;
X-ALT-DESC;FMTTYPE=text/html:WE ARE BACK !!! Friday 5/6/16 topic: BACK BY POPULAR DEMAND !! QuickBooks Online\; Meals &amp\; Entertainment\; S-Corps\; 1099&#39\;s\; Tax Deductions\;
LOCATION:C G Olsen PC office: 6705 E 81st St. Ste 195\, Tulsa\, OK 74133
UID:e.1611.3307
SEQUENCE:3
DTSTAMP:20260419T132544Z
URL:https://portal.bixbychamber.com/events/details/c-g-olsen-pc-presents-small-business-roundtables-05-06-2016-3307
END:VEVENT

END:VCALENDAR
