BEGIN:VCALENDAR
VERSION:2.0
PRODID:-//ChamberMaster//Event Calendar 2.0//EN
METHOD:PUBLISH
X-PUBLISHED-TTL:P3D
REFRESH-INTERVAL:P3D
CALSCALE:GREGORIAN
BEGIN:VEVENT
DTSTART:20160408T150000Z
DTEND:20160408T170000Z
X-MICROSOFT-CDO-ALLDAYEVENT:FALSE
SUMMARY:C G OLSEN PC hosts Small Business Roundtables
DESCRIPTION:4/8/16 Topic: Three Reasons Business Owners Need a Financial Advocate Presenter: Christopher G. Olsen
X-ALT-DESC;FMTTYPE=text/html:4/8/16 Topic: Three Reasons Business Owners Need a Financial Advocate Presenter: Christopher G. Olsen
LOCATION:C G Olsen PC office 6705 E 81 St Ste 195
UID:e.1611.3288
SEQUENCE:3
DTSTAMP:20260419T143129Z
URL:https://portal.bixbychamber.com/events/details/c-g-olsen-pc-hosts-small-business-roundtables-04-08-2016-3288
END:VEVENT

END:VCALENDAR
