BEGIN:VCALENDAR
VERSION:2.0
PRODID:-//ChamberMaster//Event Calendar 2.0//EN
METHOD:PUBLISH
X-PUBLISHED-TTL:P3D
REFRESH-INTERVAL:P3D
CALSCALE:GREGORIAN
BEGIN:VEVENT
DTSTART;VALUE=DATE:20151214
DTEND;VALUE=DATE:20151215
TRANSP:TRANSPARENT
X-MICROSOFT-CDO-ALLDAYEVENT:TRUE
SUMMARY:Buy Bixby Grand Finale
DESCRIPTION:Collect ticket from participating merchants for the December 14th drawing at Sutherlands!\n\n\n\n$11\,000 grand prize\, one $2\,000 prize\, two $1\,000 prizes and many other giveaways.
X-ALT-DESC;FMTTYPE=text/html:Collect ticket from participating merchants for the December 14th drawing at Sutherlands!<br />\n<br />\n$11\,000 grand prize\, one $2\,000 prize\, two $1\,000 prizes and many other giveaways.
LOCATION:Sutherlands 15050 South Memorial Drive Bixby\, OK 74008
UID:e.1611.1702
SEQUENCE:3
DTSTAMP:20260419T193949Z
URL:https://portal.bixbychamber.com/events/details/buy-bixby-grand-finale-12-14-2015-1702
END:VEVENT

END:VCALENDAR
