BEGIN:VCALENDAR
VERSION:2.0
PRODID:-//ChamberMaster//Event Calendar 2.0//EN
METHOD:PUBLISH
X-PUBLISHED-TTL:P3D
REFRESH-INTERVAL:P3D
CALSCALE:GREGORIAN
BEGIN:VEVENT
DTSTART:20230615T230000Z
DTEND:20230616T030000Z
X-MICROSOFT-CDO-ALLDAYEVENT:FALSE
SUMMARY:Bridges "Back Roads Bash"
DESCRIPTION:Join us for live entertainment by Pat Green and Paul Bogart\, a wine and whiskey pull\, games\, food\, an auction\, and more to benefit Bridges!
X-ALT-DESC;FMTTYPE=text/html:Join us for live entertainment by Pat Green and Paul Bogart\, a wine and whiskey pull\, games\, food\, an auction\, and more to benefit Bridges!
LOCATION:181 Ranch 3913 E 181st St S\, Bixby\, OK 74008
UID:e.1611.8785
SEQUENCE:3
DTSTAMP:20260422T093352Z
URL:https://portal.bixbychamber.com/events/details/bridges-back-roads-bash-8785
END:VEVENT

END:VCALENDAR
