BEGIN:VCALENDAR
VERSION:2.0
PRODID:-//ChamberMaster//Event Calendar 2.0//EN
METHOD:PUBLISH
X-PUBLISHED-TTL:P3D
REFRESH-INTERVAL:P3D
CALSCALE:GREGORIAN
BEGIN:VEVENT
DTSTART:20160309T003000Z
DTEND:20160309T013000Z
X-MICROSOFT-CDO-ALLDAYEVENT:FALSE
SUMMARY:Bixby Town Hall
DESCRIPTION:The City of Bixby has scheduled a Town Hall Meeting on the Downtown River District for Tuesday March 8th\, at 6:30pm at City Hall. In this meeting\, the public will be divided into small groups for a brain-storming session to further develop ideas and projects to be implemented in the Downtown River District as part of the 4 For Bixby initiative passed in November\, 2015.\n\n"It's time to begin gathering and processing the input from our citizens that will to help bring Bixby's Downtown River District to life. Funds from the recently approved Vision 2025 tax extension will be available in early 2017\, and we want to be ready to move forward as soon as possible\," said Jared Cottle\, Bixby City Manager.\n\n\nIdeas presented will center around the vision of the Arkansas River public access points and a revitalized downtown Bixby as presented to voters\, Cottle said. "We are ready to move beyond the broad concept stage and start developing the programming and amenities that people most want\, and prioritizing how we will accomplish the work\," he said.\n\nCity staff members will be on hand to moderate the small groups and will document the ideas presented. After compiling ideas and adding any comments\, a prioritized project list will be presented at a follow-up Town Hall Meeting to be held in May for public review and comment.
X-ALT-DESC;FMTTYPE=text/html:<p style="margin: 6px 0px\; color: rgb(20\, 24\, 35)\; font-family: helvetica\, arial\, sans-serif\; font-size: 14px\; line-height: 17.5636px\;">The City of Bixby has scheduled a Town Hall Meeting on the Downtown River District for Tuesday March 8th\, at 6:30pm at City Hall. In this meeting\, the public will be divided into small groups for a brain-storming session to further develop ideas and projects to be implemented in the Downtown River District as part of the 4 For Bixby initiative passed in November\, 2015.</p>\n\n<p style="margin: 6px 0px\; color: rgb(20\, 24\, 35)\; font-family: helvetica\, arial\, sans-serif\; font-size: 14px\; line-height: 17.5636px\;">&ldquo\;It&rsquo\;s time to begin gathering and processing the inpu<span class="text_exposed_show" style="display: inline\;">t from our citizens that will to help bring Bixby&rsquo\;s Downtown River District to life. Funds from the recently approved Vision 2025 tax extension will be available in early 2017\, and we want to be ready to move forward as soon as possible\,&rdquo\; said Jared Cottle\, Bixby City Manager.</span></p>\n\n<div class="text_exposed_show" style="display: inline\; color: rgb(20\, 24\, 35)\; font-family: helvetica\, arial\, sans-serif\; font-size: 14px\; line-height: 17.5636px\;">\n<p style="margin: 0px 0px 6px\;">Ideas presented will center around the vision of the Arkansas River public access points and a revitalized downtown Bixby as presented to voters\, Cottle said. &ldquo\;We are ready to move beyond the broad concept stage and start developing the programming and amenities that people most want\, and prioritizing how we will accomplish the work\,&rdquo\; he said.</p>\n\n<p style="margin: 6px 0px\;">City staff members will be on hand to moderate the small groups and will document the ideas presented. After compiling ideas and adding any comments\, a prioritized project list will be presented at a follow-up Town Hall Meeting to be held in May for public review and comment.</p>\n</div>\n
LOCATION:City of Bixby Council Chambers Room 116 West Needles Bixby\, OK 74008
UID:e.1611.3059
SEQUENCE:3
DTSTAMP:20260419T154858Z
URL:https://portal.bixbychamber.com/events/details/bixby-town-hall-03-08-2016-3059
END:VEVENT

END:VCALENDAR
