BEGIN:VCALENDAR
VERSION:2.0
PRODID:-//ChamberMaster//Event Calendar 2.0//EN
METHOD:PUBLISH
X-PUBLISHED-TTL:P3D
REFRESH-INTERVAL:P3D
CALSCALE:GREGORIAN
BEGIN:VEVENT
DTSTART:20160624T150000Z
DTEND:20160624T170000Z
X-MICROSOFT-CDO-ALLDAYEVENT:FALSE
SUMMARY:Bixby Historical Society Pioneer Brunch honoring Doc's
DESCRIPTION:Bixby HIstorical Society 2016 Pioneer Brunch Honoring Doc's & The Roy T. "Doc" & Betty Brown Family
X-ALT-DESC;FMTTYPE=text/html:Bixby HIstorical Society 2016 Pioneer Brunch Honoring Doc&#39\;s &amp\; The Roy T. &quot\;Doc&quot\; &amp\; Betty Brown Family&nbsp\;&nbsp\;&nbsp\;&nbsp\;
LOCATION:Crossroads Church 100 West Dawes Bixby\, OK 74008
UID:e.1611.3352
SEQUENCE:3
DTSTAMP:20260419T120147Z
URL:https://portal.bixbychamber.com/events/details/bixby-historical-society-pioneer-brunch-honoring-doc-s-06-24-2016-3352
END:VEVENT

END:VCALENDAR
