BEGIN:VCALENDAR
VERSION:2.0
PRODID:-//ChamberMaster//Event Calendar 2.0//EN
METHOD:PUBLISH
X-PUBLISHED-TTL:P3D
REFRESH-INTERVAL:P3D
CALSCALE:GREGORIAN
BEGIN:VEVENT
DTSTART:20160524T230000Z
DTEND:20160525T010000Z
X-MICROSOFT-CDO-ALLDAYEVENT:FALSE
SUMMARY:Bixby Historical Society BBQ Pulled Pork Supper and Dessert Auction
DESCRIPTION:Come "pig out" with the Bixby Historical Society.\n\nBBQ Pulled pork supper and dessert auction.\n\n\n\nSeveral non-food items include in the auction
X-ALT-DESC;FMTTYPE=text/html:Come &quot\;pig out&quot\; with the Bixby Historical Society.<br />\nBBQ Pulled pork supper and dessert auction.<br />\n<br />\nSeveral non-food items include in the auction&nbsp\;&nbsp\;&nbsp\;&nbsp\;
LOCATION:Crossroad Fellowship Activity Center 100 West Dawes Bixby\, OK 74008
UID:e.1611.3351
SEQUENCE:3
DTSTAMP:20260419T132710Z
URL:https://portal.bixbychamber.com/events/details/bixby-historical-society-bbq-pulled-pork-supper-and-dessert-auction-05-24-2016-3351
END:VEVENT

END:VCALENDAR
