BEGIN:VCALENDAR
VERSION:2.0
PRODID:-//ChamberMaster//Event Calendar 2.0//EN
METHOD:PUBLISH
X-PUBLISHED-TTL:P3D
REFRESH-INTERVAL:P3D
CALSCALE:GREGORIAN
BEGIN:VEVENT
DTSTART:20160409T140000Z
DTEND:20160409T170000Z
X-MICROSOFT-CDO-ALLDAYEVENT:FALSE
SUMMARY:Bixby Garden Club Plant Sale
DESCRIPTION:This annual fundraiser helps beautify the Bixby area with flowers and plants.
X-ALT-DESC;FMTTYPE=text/html:This annual fundraiser helps beautify the Bixby area with flowers and plants.
LOCATION:Bixby Community Center 211 N. Cabaniss Bixby
UID:e.1611.3268
SEQUENCE:3
DTSTAMP:20260419T143252Z
URL:https://portal.bixbychamber.com/events/details/bixby-garden-club-plant-sale-04-09-2016-3268
END:VEVENT

END:VCALENDAR
