BEGIN:VCALENDAR
VERSION:2.0
PRODID:-//ChamberMaster//Event Calendar 2.0//EN
METHOD:PUBLISH
X-PUBLISHED-TTL:P3D
REFRESH-INTERVAL:P3D
CALSCALE:GREGORIAN
BEGIN:VEVENT
DTSTART:20230701T000000Z
DTEND:20230701T030000Z
X-MICROSOFT-CDO-ALLDAYEVENT:FALSE
SUMMARY:Bixby Freedom Celebration
DESCRIPTION:Bixby Freedom Celebration has become a beloved tradition for families in the area\, offering a fun-filled day of festivities to celebrate our nation's independence.  The event will kick off at 7:00 pm with a variety of food trucks serving up delicious treats\, games with prizes\, kids' firefighter challenge\, and a fun-filled kids area including free face painting & balloon art. This year we've added the Harmony Bridge to the festivities.  Food trucks and music will be enjoyed on this bridge that spans the Arkansas river\, which is a prime spot to enjoy the fireworks. As the sun begins to set\, we will have our traditional patriotic program\, which includes the national anthem\, swearing in of new military recruits\, and an inspirational message from our pastor\, Orlando Juarez. Precisely at 9:45\, a spectacular fireworks display will light up the night sky making it an unforgettable experience for all who attend!\n\n\n\nRemember to bring lawn chairs\, blankets\, footballs and frisbees\, and food vendors will be on site to fill your tummies!\n\n*No personal tents\, shelters\, or fireworks allowed*
X-ALT-DESC;FMTTYPE=text/html:<p style="box-sizing: border-box\; margin-top: 0px\; margin-bottom: 0.9rem\; font-family: -apple-system\, BlinkMacSystemFont\, &quot\;Segoe UI&quot\;\, Roboto\, &quot\;Helvetica Neue&quot\;\, Arial\, &quot\;Noto Sans&quot\;\, sans-serif\, &quot\;Apple Color Emoji&quot\;\, &quot\;Segoe UI Emoji&quot\;\, &quot\;Segoe UI Symbol&quot\;\, &quot\;Noto Color Emoji&quot\;\; font-size: 16px\;"><span style="font-size:11px\;"><span style="box-sizing: border-box\; font-weight: bolder\;">B</span>ixby&nbsp\;<span style="box-sizing: border-box\; font-weight: bolder\;">F</span>reedom&nbsp\;<span style="box-sizing: border-box\; font-weight: bolder\;">C</span>elebration has become a beloved tradition for families in the area\, offering a fun-filled day of festivities to celebrate our nation&rsquo\;s independence.&nbsp\; The event will kick off at 7:00 pm with a variety of food trucks serving up delicious treats\, games with prizes\, kids&rsquo\; firefighter challenge\, and a fun-filled kids area including free face painting &amp\; balloon art. This year we&rsquo\;ve added the Harmony Bridge to the festivities.&nbsp\; Food trucks and music will be enjoyed on this bridge that spans the Arkansas river\, which is a prime spot to enjoy the fireworks.&nbsp\;</span><span style="font-size:11px\;">As the sun begins to set\, we will have our traditional patriotic program\, which includes the national anthem\, swearing in of new military recruits\, and an inspirational message from our pastor\, Orlando Juarez. Precisely at 9:45\, a spectacular fireworks display will light up the night sky making it an unforgettable experience for all who attend!</span><br />\n<br />\n<span style="font-size:11px\;">Remember&nbsp\;to bring lawn chairs\, blankets\, footballs and frisbees\, and food vendors will be on site to fill your tummies!<br />\n<span style="background-color: transparent\;">*No personal tents\, shelters\, or fireworks allowed*</span></span></p>\n
LOCATION:Bentley Sports Complex 8505 E 148th St S Bixby\, OK 74008
UID:e.1611.8790
SEQUENCE:3
DTSTAMP:20260422T093650Z
URL:https://portal.bixbychamber.com/events/details/bixby-freedom-celebration-8790
END:VEVENT

END:VCALENDAR
