BEGIN:VCALENDAR
VERSION:2.0
PRODID:-//ChamberMaster//Event Calendar 2.0//EN
METHOD:PUBLISH
X-PUBLISHED-TTL:P3D
REFRESH-INTERVAL:P3D
CALSCALE:GREGORIAN
BEGIN:VEVENT
DTSTART:20230531T193000Z
DTEND:20230531T230000Z
X-MICROSOFT-CDO-ALLDAYEVENT:FALSE
SUMMARY:Bixby First Methodist Church Blood Drive
DESCRIPTION:Each donor receives their choice of free entry to Frontier City\, Science Museum Oklahoma\, Hurricane Harbor\, plus their choice of T-shirt! To make an appointment\, contact Our Blood Institute at 877-340-8777 or visit obi.org!
X-ALT-DESC;FMTTYPE=text/html:Each donor receives their choice of free entry to&nbsp\;Frontier City\, Science Museum Oklahoma\, Hurricane Harbor\, plus their choice of T-shirt! To make an appointment\, contact Our Blood Institute at 877-340-8777 or visit obi.org!
LOCATION:Bixby First Methodist Gym 15502 S Memorial Dr\, Bixby\, OK 74008
UID:e.1611.8784
SEQUENCE:3
DTSTAMP:20260420T145041Z
URL:https://portal.bixbychamber.com/events/details/bixby-first-methodist-church-blood-drive-8784
END:VEVENT

END:VCALENDAR
