BEGIN:VCALENDAR
VERSION:2.0
PRODID:-//ChamberMaster//Event Calendar 2.0//EN
METHOD:PUBLISH
X-PUBLISHED-TTL:P3D
REFRESH-INTERVAL:P3D
CALSCALE:GREGORIAN
BEGIN:VEVENT
DTSTART:20151212T163000Z
DTEND:20151212T173000Z
X-MICROSOFT-CDO-ALLDAYEVENT:FALSE
SUMMARY:Bixby Christmas Parade
DESCRIPTION:Hundreds will come to join the Christmas Fun! This is a fun family event that will kick off the Christmas Season in Bixby! Decorate floats\, cars\, antique vehicles\, pick-up trucks\, horses\, boats\, convertibles and motorcycles. This is our area's official start of the Christmas season!
X-ALT-DESC;FMTTYPE=text/html:Hundreds will come to join the Christmas Fun! This is a fun family event that will kick off the Christmas Season in Bixby! Decorate floats\, cars\, antique vehicles\, pick-up trucks\, horses\, boats\, convertibles and motorcycles. This is our area&#39\;s official start of the Christmas season!
LOCATION:Charley Young Park
UID:e.1611.2715
SEQUENCE:3
DTSTAMP:20260419T193801Z
URL:https://portal.bixbychamber.com/events/details/bixby-christmas-parade-12-12-2015-2715
END:VEVENT

END:VCALENDAR
