BEGIN:VCALENDAR
VERSION:2.0
PRODID:-//ChamberMaster//Event Calendar 2.0//EN
METHOD:PUBLISH
X-PUBLISHED-TTL:P3D
REFRESH-INTERVAL:P3D
CALSCALE:GREGORIAN
BEGIN:VEVENT
DTSTART:20210520T160000Z
DTEND:20210520T230000Z
X-MICROSOFT-CDO-ALLDAYEVENT:FALSE
SUMMARY:Bixby Boots & Badges Community Challenge Blood Drive
DESCRIPTION:Bixby Boots & Badges Community Challenge Blood Drive\n\n\n\nDonors in May will have a chance to win a Ranger RT 178 Boat!  And each week\, one lucky donor will win a Traeger Grill!\n\n\n\nDonors receive a $10 Doc's Country Mart gift certificate & a coupon for a FREE large pizza from Papa John's Pizza!
X-ALT-DESC;FMTTYPE=text/html:<strong>Bixby Boots &amp\; Badges Community Challenge Blood Drive</strong><br />\n<br />\nDonors in May will have a chance to win a Ranger RT 178 Boat!&nbsp\; And each week\, one lucky donor will win a Traeger Grill!<br />\n<br />\nDonors receive a $10 Doc&#39\;s Country Mart gift certificate &amp\; a coupon for a FREE large pizza from Papa John&#39\;s Pizza!<br />\n&nbsp\;
LOCATION:First United Methodist Church Gym 15502 South Memorial Drive Bixby\, OK 74008
UID:e.1611.7576
SEQUENCE:3
DTSTAMP:20260421T215337Z
URL:https://portal.bixbychamber.com/events/details/bixby-boots-badges-community-challenge-blood-drive-7576
END:VEVENT

END:VCALENDAR
