BEGIN:VCALENDAR
VERSION:2.0
PRODID:-//ChamberMaster//Event Calendar 2.0//EN
METHOD:PUBLISH
X-PUBLISHED-TTL:P3D
REFRESH-INTERVAL:P3D
CALSCALE:GREGORIAN
BEGIN:VEVENT
DTSTART:20160506T220000Z
DTEND:20160508T040000Z
X-MICROSOFT-CDO-ALLDAYEVENT:FALSE
SUMMARY:BBQ 'n Blues Festival
DESCRIPTION:The Rotary Club of Bixby presents the 15th Annual Bixby BBQ 'n Blues Festival. Come out to Bixby's largest family event that will feature great food provided by BBQ Teams from across the nation and  live music. Come out and support this local event.
X-ALT-DESC;FMTTYPE=text/html:<span style="color: rgb(102\, 102\, 102)\; font-family: Arial\, Helvetica\, sans-serif\;">The Rotary Club of Bixby presents the 15th Annual Bixby BBQ &#39\;n Blues Festival. Come out to Bixby&#39\;s largest family event that will feature great food provided by BBQ Teams from across the nation and &nbsp\;live music.&nbsp\;Come out and support this local event.</span>
LOCATION:Washington Irving Memorial Park 137th & South Memorial Drive Bixby\, OK 7400
UID:e.1611.3299
SEQUENCE:3
DTSTAMP:20260419T132737Z
URL:https://portal.bixbychamber.com/events/details/bbq-n-blues-festival-05-06-2016-3299
END:VEVENT

END:VCALENDAR
