BEGIN:VCALENDAR
VERSION:2.0
PRODID:-//ChamberMaster//Event Calendar 2.0//EN
METHOD:PUBLISH
X-PUBLISHED-TTL:P3D
REFRESH-INTERVAL:P3D
CALSCALE:GREGORIAN
BEGIN:VEVENT
DTSTART:20160624T200000Z
DTEND:20160624T230000Z
X-MICROSOFT-CDO-ALLDAYEVENT:FALSE
SUMMARY:Ask the RDs about Sports Nutrition
DESCRIPTION:Come by the Bixby Reasor's to ask your Reasor's registered dietitians your food & nutrition questions. Plus\, there will be FREE SAMPLES and a GIVEAWAY for a FITBIT FLEX! This Ask the RDs event will be focusing on Sports Nutrition as a part of our Eat Right Feel Great program\, but all questions are welcome! We're excited to see you there!
X-ALT-DESC;FMTTYPE=text/html:<span style="color:rgb(75\, 79\, 86)\; font-family:helvetica\,arial\,sans-serif\; font-size:14px">Come by the Bixby Reasor&#39\;s to ask your Reasor&#39\;s registered dietitians your food &amp\; nutrition questions. Plus\, there will be FREE SAMPLES and a GIVEAWAY for a FITBIT FLEX! This Ask the RDs event will be focusing on Sports Nutrition as a part of our Eat Right Feel Great program\, but all questions are welcome! We&#39\;re excited to see you there!</span>
LOCATION:Reasor's 11116 S. Memorial Bixby\, OK 74008
UID:e.1611.3358
SEQUENCE:3
DTSTAMP:20260419T131803Z
URL:https://portal.bixbychamber.com/events/details/ask-the-rds-about-sports-nutrition-06-24-2016-3358
END:VEVENT

END:VCALENDAR
