BEGIN:VCALENDAR
VERSION:2.0
PRODID:-//ChamberMaster//Event Calendar 2.0//EN
METHOD:PUBLISH
X-PUBLISHED-TTL:P3D
REFRESH-INTERVAL:P3D
CALSCALE:GREGORIAN
BEGIN:VEVENT
DTSTART:20151205T160000Z
DTEND:20151206T000000Z
X-MICROSOFT-CDO-ALLDAYEVENT:FALSE
SUMMARY:"A Night Before Christmas" Holiday Open House
DESCRIPTION:Join\, Southern Road Vintage Market\, Bird's Eye Treasures and Red Rock Market for the "A Night Before Christmas" Holiday Open House on Saturday\, December 5th from 10am - 6pm. Event will include SALES\, FOOD\, and GIVEAWAYS. Southern Road Vintage Market will be giving away 3 Rustic Cuff bracelets and a gift certificate. People can enter in their store\, and must be present to win. They will give items away at 5pm on the night of the event.
X-ALT-DESC;FMTTYPE=text/html:Join\,&nbsp\;<span style="line-height: 20.8px\;">Southern Road Vintage Market\, Bird&#39\;s Eye Treasures and Red Rock Market</span>&nbsp\;for the &quot\;A Night Before Christmas&quot\; Holiday Open House on Saturday\, December 5th from 10am - 6pm. Event will include SALES\, FOOD\, and GIVEAWAYS. Southern Road Vintage Market will be giving away 3 Rustic Cuff bracelets and a gift certificate. People can enter in their store\, and must be present to win. They will give items away at 5pm on the night of the event.
LOCATION:Southern Road Vintage Market 16917 South Memorial Bixby\, OK 74008 Birds Eye Treasures 15325 South Memorial Drive Bixby\, OK 74008
UID:e.1611.1693
SEQUENCE:3
DTSTAMP:20260419T210801Z
URL:https://portal.bixbychamber.com/events/details/a-night-before-christmas-holiday-open-house-12-05-2015-1693
END:VEVENT

END:VCALENDAR
