BEGIN:VCALENDAR
VERSION:2.0
PRODID:-//ChamberMaster//Event Calendar 2.0//EN
METHOD:PUBLISH
X-PUBLISHED-TTL:P3D
REFRESH-INTERVAL:P3D
CALSCALE:GREGORIAN
BEGIN:VEVENT
DTSTART:20160512T130000Z
DTEND:20160512T200000Z
X-MICROSOFT-CDO-ALLDAYEVENT:FALSE
SUMMARY:A Day Without Business
DESCRIPTION:
X-ALT-DESC;FMTTYPE=text/html:
LOCATION:Tulsa Community College Northeast Campus 3727 East Apache Street Tulsa\, OK
UID:e.1611.3058
SEQUENCE:3
DTSTAMP:20260419T131026Z
URL:https://portal.bixbychamber.com/events/details/a-day-without-business-05-12-2016-3058
END:VEVENT

END:VCALENDAR
