BEGIN:VCALENDAR
VERSION:2.0
PRODID:-//ChamberMaster//Event Calendar 2.0//EN
METHOD:PUBLISH
X-PUBLISHED-TTL:P3D
REFRESH-INTERVAL:P3D
CALSCALE:GREGORIAN
BEGIN:VEVENT
DTSTART;VALUE=DATE:20240504
DTEND;VALUE=DATE:20240505
TRANSP:TRANSPARENT
X-MICROSOFT-CDO-ALLDAYEVENT:TRUE
SUMMARY:2nd Annual Bixby Fine Arts Festival
DESCRIPTION:
X-ALT-DESC;FMTTYPE=text/html:
LOCATION:Charley Young Event Park 50 W Dawes Ave\, Bixby\, OK 74008
UID:e.1611.9724
SEQUENCE:3
DTSTAMP:20260419T221137Z
URL:https://portal.bixbychamber.com/events/details/2nd-annual-bixby-fine-arts-festival-9724
END:VEVENT

END:VCALENDAR
