BEGIN:VCALENDAR
VERSION:2.0
PRODID:-//ChamberMaster//Event Calendar 2.0//EN
METHOD:PUBLISH
X-PUBLISHED-TTL:P3D
REFRESH-INTERVAL:P3D
CALSCALE:GREGORIAN
BEGIN:VEVENT
DTSTART:20240515T160000Z
DTEND:20240515T180000Z
X-MICROSOFT-CDO-ALLDAYEVENT:FALSE
SUMMARY:2024 May Drive Around
DESCRIPTION:Have you enjoyed our "What's That"? features on Bixby Development Foundation's social media? Would you like the opportunity to drive around with CEO Krystal Crockett and learn about developments before they break ground or put a sign up? Then join us for the Bixby Drive Around!\n\n \n\nThis event on May 15th will feature a tour of Bixby and lunch. Only five seats are available and the cost is $50 per person.
X-ALT-DESC;FMTTYPE=text/html:<span style="color:#444444\;"><span style="font-family:arial\,sans-serif\;"><span style="font-size:10.5pt\;">Have you enjoyed our &quot\;What&#39\;s That&quot\;? features on Bixby Development Foundation&#39\;s social media? Would you like the opportunity to drive around with CEO Krystal Crockett and learn about developments before they break ground or put a sign up? Then join us for the Bixby Drive Around!</span></span></span><br />\n&nbsp\;<br />\n<span style="color:#444444\;"><span style="font-family:arial\,sans-serif\;"><span style="font-size:10.5pt\;">This event on May 15th will feature a tour of Bixby and lunch. Only five seats are available and the cost is $50 per person.</span></span></span>
LOCATION:Meet at Bixby Metro Chamber of Commerce office at 12 West Dawes Ave in downtown Bixby. We will depart promptly at 11 am.
UID:e.1611.8891
SEQUENCE:3
DTSTAMP:20260419T193735Z
URL:https://portal.bixbychamber.com/events/details/2024-may-drive-around-8891
END:VEVENT

END:VCALENDAR
