BEGIN:VCALENDAR
VERSION:2.0
PRODID:-//ChamberMaster//Event Calendar 2.0//EN
METHOD:PUBLISH
X-PUBLISHED-TTL:P3D
REFRESH-INTERVAL:P3D
CALSCALE:GREGORIAN
BEGIN:VEVENT
DTSTART:20240510T133000Z
DTEND:20240510T210000Z
X-MICROSOFT-CDO-ALLDAYEVENT:FALSE
SUMMARY:2024 Entrepreneurial Summit
DESCRIPTION:The Entrepreneurial Summit will be focused on bringing together startups\, investors\, entrepreneurs\, and young talents to promote innovation and disruption. Participants can look forward to a day of connecting with peers and successful business leaders to foster a community of entrepreneurship.
X-ALT-DESC;FMTTYPE=text/html:<p class="paragraph" style="margin: 0in\; font-size: 11pt\; font-family: Calibri\, sans-serif\; caret-color: rgb(33\, 33\, 33)\; color: rgb(33\, 33\, 33)\; text-size-adjust: auto\; vertical-align: baseline\;"><span style="color: rgb(50\, 49\, 48)\; font-family: Arial\, Verdana\, Helvetica\, sans-serif\; font-size: 14px\; text-align: justify\;">The Entrepreneurial Summit will be focused on bringing together startups\, investors\, entrepreneurs\, and young talents to promote innovation and disruption. Participants can look forward to a day of connecting with peers and successful business leaders to foster a community of entrepreneurship.</span><br />\n&nbsp\;</p>\n\n<div style="color: rgb(54\, 73\, 95)\; font-family: Arial\, Verdana\, Helvetica\, sans-serif\; font-size: 14px\; white-space: pre-wrap\;">&nbsp\;</div>\n
LOCATION:Tulsa Community College-Southeast Campus 10300 East 81st Street Studio Theatre in the Performing Arts Center for Education (PACE)\, Building 6 Parking in Lot 8 Tulsa\, OK
UID:e.1611.8883
SEQUENCE:3
DTSTAMP:20260419T193705Z
URL:https://portal.bixbychamber.com/events/details/2024-entrepreneurial-summit-8883
END:VEVENT

END:VCALENDAR
