BEGIN:VCALENDAR
VERSION:2.0
PRODID:-//ChamberMaster//Event Calendar 2.0//EN
METHOD:PUBLISH
X-PUBLISHED-TTL:P3D
REFRESH-INTERVAL:P3D
CALSCALE:GREGORIAN
BEGIN:VEVENT
DTSTART:20240211T000000Z
DTEND:20240211T040000Z
X-MICROSOFT-CDO-ALLDAYEVENT:FALSE
SUMMARY:2024 Annual Awards Gala & Auction
DESCRIPTION:February 10\, 2024\n\nCocktails 7:00 PM  Dinner 8:00 PM\n\n\nVIP Experience available before Cocktail Hour\n\nThis year's event will include\n\nour annual Award Presentation & Auction!\n\n \n\n\n\n\n.\n\n{Tickets must be purchased by February 2\, 2024}\n\n\n\nTickets and Sponsorships can be purchased:\n\nOnline on this page by logging in at ChamberLogin.com\n\nBy email at events@bixbychamber.com\n\nBy calling (918) 366-9445  \n\nSponsorships\n\nFor questions about sponsorships\, please contact Christal Melton christalm@bixbychamber.com\n\n\n\n\n\n\n\n\nPREMIER SPONSOR - $2\,750 (3 Available)\n\nOne table of 8\n\n8 VIP tickets\n\n\nFull page color ad in Gala Program\n\nStage recognition during spoken program\n\nLogo recognition on website & event emails\n\nWine at table\n\n \nVIP SPONSOR - $2\,500 (2 Available)\n\nOne table of 8\n\n8 VIP tickets\n\nHalf page ad in printed program \n\n\nStage recognition during spoken program\n\nLogo on website and name in emails & invitations\n\nRecognition in room/hall\nAFTER PARTY SPONSOR - $5\,000 (1 Available)\n\nTwo tables of 8\n\n16 VIP tickets\n\nFull page ad in printed program \n\n\nStage recognition during spoken program\n\nLogo on all event marketing\n\nWine at table\n\n\n\n\n\n \n\nTABLE OF 8 - $2\,000  (5 Available)   \n\n\nOne table of 8\n\n8 VIP tickets\n\nHalf page ad in printed program\n\nStage recognition during spoken program\n\nLogo recognition on website & event emails\n\n\nVIDEO SPONSOR- $1\,000 (2 Available)   \n\n4 tickets to event--Open Seating\n\nStage recognition during spoken program\n\nQuarter page color ad in printed program\n\nName on website\n\nLogo on award recognition videos\n\n \n\nAWARD SPONSOR- $850 (5 Available)  \n\n4 tickets to event--Open Seating\n\nStage recognition during spoken program\n\nQuarter page color ad in printed program\n\nName on website\n\nLogo on award recognition videos\n\n \n\nBUSINESS SPONSOR - $400 (8 Available) \n\n2 tickets to event--Open Seating\n\nCompany name listing in printed Program.\n\n \n\n\n\n\nINDIVIDUAL TICKETS - $175 (92 Available)\n\nOpen Seating\n\nUpgrade to VIP for an additional $50 per person\n\n \nCOLOR PROGRAM ADVERTISEMENTS  \n\nQuarter (1/4) page color ad in Gala Program - $50\nHalf (1/2) page color ad in Gala Program - $100\n\nFull page color ad in Gala Program - $150
X-ALT-DESC;FMTTYPE=text/html:<div style="text-align: center\;">\n<div _mce_style="text-align: center\;" align="center" style="text-align: center\;">\n<div _mce_style="font-family: Georgia\,Times New Roman\,Times\,Serif\; font-size: 22pt\;" style="font-family: Georgia\,Times New Roman\,Times\,Serif\; font-size: 22pt\;"><em style="font-size: 18px\;"><b>February 10\, 2024</b></em><br />\n<em style="font-size: 18px\; color: rgb(50\, 50\, 50)\;">Cocktails 7:00 PM &nbsp\;Dinner 8:00 PM</em></div>\n\n<div _mce_style="text-align: center\; font-size: 24pt\; font-family: Georgia\,Times New Roman\,Times\,serif\; color: #323232\;" align="center" style="text-align: center\;">\n<div style=""><span _mce_style="font-size: 12pt\;" style=""><span _mce_style="font-size: 16pt\;" style=""><em style=""><font color="#323232" face="Georgia\, Times New Roman\, Times\, serif"><span style="font-size: 16pt\;">VIP Experience available before Cocktail Hour</span></font><br />\n<font color="#323232" face="Georgia\, Times New Roman\, Times\, serif"><span style="font-size: 20px\;">This year&#39\;s event will include</span></font><br />\n<font color="#323232" face="Georgia\, Times New Roman\, Times\, serif"><span style="font-size: 20px\;">our annual Award Presentation &amp\; Auction!</span></font></em></span></span><br />\n&nbsp\;\n<div _mce_style="text-align: center\; margin-left: 30px\;" align="center" style="text-align: center\; margin-left: 30px\;">\n<div _mce_style="text-align: left\;" align="left" style="text-align: left\;">\n<div _mce_style="text-align: center\;" align="center" style="color: rgb(50\, 50\, 50)\; font-family: Georgia\, &quot\;Times New Roman&quot\;\, Times\, serif\; font-size: 24pt\; text-align: center\;"><br />\n<span style="color: rgb(255\, 255\, 255)\;"><span _mce_style="font-size: 26pt\; color: #323232\;" style="font-size: 26pt\;"><span style="font-size: 14px\;">.</span></span></span></div>\n\n<div _mce_style="text-align: center\;" align="center" style="text-align: center\;"><font color="#323232" face="Georgia\, Times New Roman\, Times\, serif"><span style="font-size: 16px\;">{Tickets must be purchased by February&nbsp\;2\, 2024}</span></font></div>\n\n<div _mce_style="text-align: left\;" align="left" style="color: rgb(50\, 50\, 50)\; font-family: Georgia\, &quot\;Times New Roman&quot\;\, Times\, serif\; font-size: 24pt\; text-align: left\;"><br />\n<strong><span _mce_style="font-size: 14pt\;" style="font-size: 14pt\;">Tickets and Sponsorships can be purchased:</span></strong><br />\n<span style="font-size: 11pt\;">Online on this page by logging in at </span><span style="font-size: 11pt\; color: rgb(0\, 0\, 0)\;"><a href="http://www.chamberlogin.com">ChamberLogin.com</a></span><br />\n<span _mce_style="font-size: 11pt\;" style="font-size: 11pt\;">By</span><span _mce_style="font-size: 11pt\;" style="font-size: 11pt\;"> email at <a _mce_href="mailto:events@bixbychamber.com" _mce_shape="rect" _mce_style="color: #333333\; text-decoration: underline\;" href="mailto:events@bixbychamber.com?subject=2022%20Annual%20Awards%20Gala%20Sponsorship%20Opportunity" shape="rect" style="color: rgb(51\, 51\, 51) !important\;" target="_blank">events@bixbychamber.com</a></span><br />\n<span style="font-size: 11pt\;">By calling (918) 366-9445 &nbsp\;</span><br />\n<span style="color: rgb(50\, 50\, 50)\; font-family: Georgia\, &quot\;Times New Roman&quot\;\, Times\, serif\; font-size: 34.6667px\; text-align: center\;">Sponsorships<br />\n<span style="font-size:11px\;">For questions about sponsorships\, please contact Christal Melton <a href="mailto:christalm@bixbychamber.com?subject=2024%20Annual%20Awards%20Gala%20Sponsorships%20">christalm@bixbychamber.com</a></span></span></div>\n</div>\n</div>\n</div>\n</div>\n</div>\n\n<div _mce_style="font-size: 10pt\;" style="text-align: left\;">\n<div _mce_style="font-size: 18pt\; font-family: Georgia\,Times New Roman\,Times\,serif\; color: #666666\;" style="font-size: 18pt\; color: rgb(102\, 102\, 102)\; font-family: Georgia\, &quot\;Times New Roman&quot\;\, Times\, serif\;">\n<div _mce_style="font-size: 10pt\;" style="color: rgb(102\, 102\, 102)\; font-family: Georgia\, &quot\;Times New Roman&quot\;\, Times\, serif\; font-size: 10pt\; background-color: rgb(255\, 255\, 255)\;"><i font-size:="" new="" style="font-size: 24px\;" times="">PREMIER SPONSOR&nbsp\;-&nbsp\;</i><i font-size:="" new="" style="font-size: 24px\;" times="">$2\,750</i><em style="font-size: 18pt\;">&nbsp\;</em><i font-size:="" new="" style="font-size: 24px\;" times="">(3&nbsp\;</i><i font-size:="" new="" style="font-size: 24px\;" times="">Available</i><i font-size:="" new="" style="font-size: 24px\;" times="">)</i><br />\nOne table&nbsp\;of 8<br />\n8 VIP tickets</div>\n\n<div _mce_style="font-size: 10pt\;" style="color: rgb(102\, 102\, 102)\; font-family: Georgia\, &quot\;Times New Roman&quot\;\, Times\, serif\; font-size: 10pt\; background-color: rgb(255\, 255\, 255)\;">\n<div _mce_style="font-size: 10pt\;" font-size:="" new="" times="">Full page color ad in Gala Program<br />\n<span style="color: rgb(102\, 102\, 102)\; font-family: Georgia\, &quot\;Times New Roman&quot\;\, Times\, serif\; font-size: 13.3333px\;">Stage recognition during spoken program</span><br />\n<span style="color: rgb(102\, 102\, 102)\; font-family: Georgia\, &quot\;Times New Roman&quot\;\, Times\, serif\; font-size: 13.3333px\; background-color: rgb(255\, 255\, 255)\;">Logo recognition on website &amp\; event emails</span><br />\nWine at table<br />\n&nbsp\;\n<div _mce_style="font-size: 10pt\;" style="color: rgb(102\, 102\, 102)\; font-family: Georgia\, &quot\;Times New Roman&quot\;\, Times\, serif\; font-size: 10pt\;"><i font-size:="" new="" style="font-size: 24px\;" times="">VIP SPONSOR&nbsp\;-&nbsp\;</i><i font-size:="" new="" style="font-size: 24px\;" times="">$2\,500</i><em style="font-size: 18pt\;">&nbsp\;</em><i font-size:="" new="" style="font-size: 24px\;" times="">(2&nbsp\;</i><i font-size:="" new="" style="font-size: 24px\;" times="">Available</i><i font-size:="" new="" style="font-size: 24px\;" times="">)</i><br />\nOne table&nbsp\;of 8<br />\n8 VIP tickets<br />\nHalf page ad in printed program&nbsp\;</div>\n\n<div _mce_style="font-size: 10pt\;" style="color: rgb(102\, 102\, 102)\; font-family: Georgia\, &quot\;Times New Roman&quot\;\, Times\, serif\; font-size: 10pt\;">\n<div _mce_style="font-size: 10pt\;" font-size:="" new="" times="">Stage recognition during spoken program<br />\nLogo on website and name in emails &amp\; invitations<br />\nRecognition in room/hall\n<div _mce_style="font-size: 10pt\;" style="color: rgb(102\, 102\, 102)\; font-family: Georgia\, &quot\;Times New Roman&quot\;\, Times\, serif\; font-size: 10pt\;"><i font-size:="" new="" style="font-size: 24px\;" times="">AFTER PARTY&nbsp\;SPONSOR&nbsp\;-&nbsp\;</i><i font-size:="" new="" style="font-size: 24px\;" times="">$5\,000</i><em style="font-size: 18pt\;">&nbsp\;</em><i font-size:="" new="" style="font-size: 24px\;" times="">(1&nbsp\;</i><i font-size:="" new="" style="font-size: 24px\;" times="">Available</i><i font-size:="" new="" style="font-size: 24px\;" times="">)</i><br />\nTwo tables of 8<br />\n16 VIP tickets<br />\nFull page ad in printed program&nbsp\;</div>\n\n<div _mce_style="font-size: 10pt\;" style="color: rgb(102\, 102\, 102)\; font-family: Georgia\, &quot\;Times New Roman&quot\;\, Times\, serif\; font-size: 10pt\;">\n<div _mce_style="font-size: 10pt\;" font-size:="" new="" times="">Stage recognition during spoken program<br />\nLogo on all event marketing<br />\nWine at table</div>\n</div>\n</div>\n</div>\n</div>\n\n<div>&nbsp\;</div>\n</div>\n<span><i>TABLE OF 8 - $2\,000&nbsp\; (5 Available)&nbsp\; &nbsp\;</i></span></div>\n\n<div _mce_style="font-size: 10pt\;" style="">\n<div _mce_style="font-size: 10pt\;" font-size:="" new="" style="font-size: 10pt\; color: rgb(102\, 102\, 102)\;" times="">One&nbsp\;table&nbsp\;of 8<br />\n8 VIP tickets<br />\n<span style="color: rgb(102\, 102\, 102)\; font-size: 13.3333px\;">Half page ad in printed program<br />\nStage recognition during spoken program</span><br />\n<span style="color: rgb(102\, 102\, 102)\; font-size: 13.3333px\;">Logo recognition on website &amp\; event emails</span></div>\n<br />\n<span style="font-size: 26px\;"><span style="font-family:times new roman\;"><i font-size:="" new="" style="color: rgb(102\, 102\, 102)\; font-family: Georgia\, " times="">VIDEO SPONSOR- $</i></span></span><i style=""><font color="#666666" face="times new roman"><span style="font-size: 26px\;">1\,000 </span></font><font color="#666666" face="Georgia\, Times New Roman\, Times\, serif"><span style="font-size: 24px\;">(2 Available)</span></font></i><i font-size:="" new="" style="font-size: 10pt\; color: rgb(102\, 102\, 102)\;" times="">&nbsp\;</i><span style="font-size: 26px\;"><span style="font-family:times new roman\;"><i font-size:="" new="" style="color: rgb(102\, 102\, 102)\; font-family: Georgia\, " times="">&nbsp\; </i></span></span><br />\n<span style="font-size: 10pt\; color: rgb(102\, 102\, 102)\;">4 tickets to event--Open Seating</span>\n\n<div _mce_style="font-size: 10pt\;" font-size:="" new="" style="font-size: 10pt\; color: rgb(102\, 102\, 102)\;" times="">Stage recognition during spoken program<br />\nQuarter page color ad in printed program<br />\nName on website<br />\nLogo on award recognition videos<br />\n&nbsp\;</div>\n\n<div _mce_style="font-size: 18pt\; font-family: Georgia\,Times New Roman\,Times\,serif\; color: #666666\;" style=""><span style="color: rgb(102\, 102\, 102)\; font-family: Georgia\, &quot\;Times New Roman&quot\;\, Times\, serif\; font-size: 26px\;"><span style="font-family: &quot\;times new roman&quot\;\;"><i font-size:="" new="" style="color: rgb(102\, 102\, 102)\;" times="">AWARD SPONSOR- $850</i></span></span><i style=""><font color="#666666" face="times new roman" style="color: rgb(102\, 102\, 102)\; font-family: Georgia\, &quot\;Times New Roman&quot\;\, Times\, serif\; font-size: 18pt\;"><span style="font-size: 26px\;">&nbsp\;</span></font><font color="#666666" style=""><font face="times new roman"><span style="font-size: 26px\;">(5</span></font><font face="Georgia\, Times New Roman\, Times\, serif"><span style="font-size: 24px\;">&nbsp\;Available)</span></font></font></i><i font-size:="" new="" style="color: rgb(102\, 102\, 102)\; font-family: Georgia\, &quot\;Times New Roman&quot\;\, Times\, serif\; font-size: 10pt\;" times="">&nbsp\;</i><span style="color: rgb(102\, 102\, 102)\; font-family: Georgia\, &quot\;Times New Roman&quot\;\, Times\, serif\; font-size: 26px\;"><span style="font-family: &quot\;times new roman&quot\;\;"><i font-size:="" new="" style="color: rgb(102\, 102\, 102)\;" times="">&nbsp\;</i></span></span><br />\n<span style="color: rgb(102\, 102\, 102)\; font-family: Georgia\, &quot\;Times New Roman&quot\;\, Times\, serif\; font-size: 10pt\;">4 tickets to event--Open Seating</span>\n\n<div _mce_style="font-size: 10pt\;" font-size:="" new="" style="color: rgb(102\, 102\, 102)\; font-family: Georgia\, &quot\;Times New Roman&quot\;\, Times\, serif\; font-size: 10pt\;" times="">Stage recognition during spoken program<br />\nQuarter page color ad in printed program<br />\nName on website<br />\nLogo on award recognition videos<br />\n&nbsp\;</div>\n</div>\n<i style="font-size: 18pt\; color: rgb(102\, 102\, 102)\; font-family: Georgia\, &quot\;Times New Roman&quot\;\, Times\, serif\; text-align: center\;">BUSINESS SPONSOR - $400 (8 Available)&nbsp\;</i><br />\n<span font-size:="" new="" style="font-size: 10pt\; color: rgb(102\, 102\, 102)\;" times="">2 tickets to event--Open Seating</span><br font-size:="" new="" style="color: rgb(102\, 102\, 102)\; font-family: Georgia\, " times="" />\n<span font-size:="" new="" style="font-size: 10pt\; color: rgb(102\, 102\, 102)\;" times="">Company name listing in printed Program.</span><br font-size:="" new="" style="color: rgb(102\, 102\, 102)\; font-family: Georgia\, " times="" />\n&nbsp\;</div>\n</div>\n</div>\n\n<div>\n<div style="" styleclass=" style_HeadingText"><i style=""><font color="#666666" face="Georgia\, Times New Roman\, Times\, serif"><span style="font-size: 18pt\;">INDIVIDUAL TICKETS - $</span><span style="font-size: 24px\;">175 (</span><span style="font-size: 18pt\;">92 Available)</span></font></i></div>\n</div>\n<font color="#666666" face="Georgia\, Times New Roman\, Times\, serif"><span style="font-size: 13.3333px\;">Open Seating</span></font><br />\n<span style="font-size:12px\;"><i font-size:="" new="" style="color: rgb(102\, 102\, 102)\; font-family: " times="">Upgrade to VIP for an additional $50 per person</i></span><br />\n&nbsp\;\n<div font-size:="" new="" style="color: rgb(102\, 102\, 102)\; font-family: Georgia\, " styleclass=" style_HeadingText" times=""><span style="font-size:26px\;"><span style="font-family:times new roman\;"><i>COLOR PROGRAM ADVERTISEMENTS&nbsp\; </i></span></span><br />\n<span font-size:="" new="" times="">Quarter (1/4) page color ad in Gala Program - </span><i font-size:="" new="" style="font-family: " times="">$50</i></div>\n<span font-size:="" new="" style="color: rgb(102\, 102\, 102)\;" times="">Half (1/2) page color ad in Gala Program -&nbsp\;</span><i font-size:="" new="" style="color: rgb(102\, 102\, 102)\; font-family: " times="">$100</i><br />\n<span font-size:="" new="" style="color: rgb(102\, 102\, 102)\;" times="">Full page color ad in Gala Program -&nbsp\;</span><i font-size:="" new="" style="color: rgb(102\, 102\, 102)\; font-family: " times="">$150</i><br />\n&nbsp\;\n<div _mce_style="font-size: 10pt\;" style="font-size: 10pt\;">&nbsp\;</div>\n\n<div style="text-align: center\;"><br />\n&nbsp\;</div>\n
LOCATION:Hard Rock Hotel & Casino 777 West Cherokee Street Catoosa\, OK 74015 Room Reservations: 1. Group individuals may make reservations directly with Resort by calling toll free number 1-800-760-6700. Please use the code BIXBY CHAMBER OF COMMERCE. 2. Via internet at Hard Rock Hotel & Casino Tulsa - Reservations - Room Availability (synxis.com)by 1/22/2024. 1. Click on your direct link 2. Select your date of arrival 3. Click check availability 4. On the right hand side of the page (under the rate) click view availability rooms 5. Select your room type and click confirm. 6. Enter your information and method of payment 7. Click confirm reservation.
UID:e.1611.8822
SEQUENCE:3
DTSTAMP:20260419T234106Z
URL:https://portal.bixbychamber.com/events/details/2024-annual-awards-gala-auction-8822
END:VEVENT

END:VCALENDAR
