BEGIN:VCALENDAR
VERSION:2.0
PRODID:-//ChamberMaster//Event Calendar 2.0//EN
METHOD:PUBLISH
X-PUBLISHED-TTL:P3D
REFRESH-INTERVAL:P3D
CALSCALE:GREGORIAN
BEGIN:VEVENT
DTSTART:20230608T140000Z
DTEND:20230608T150000Z
X-MICROSOFT-CDO-ALLDAYEVENT:FALSE
SUMMARY:2023 June Ideas & Insights
DESCRIPTION:Ideas & Insights is an innovative and creative program held quarterly by the Bixby Metro Chamber of Commerce. Experts in their fields are invited to share their expertise on topics to help you grow and maintain a thriving business. Formerly known as Small Business Education.\n\n\n\nSpeaker: Denise Reid\n\nTopic:  Unconscious Bias and How to Combat it\n\n\n\n\n\nThis will be part two of a four- part series focusing on Diversity\, Equity\, and Inclusion in 2023. Topics will include definitions\, current research\, and how to become more aware about the importance and benefits of becoming more aware of your circle and influence in both your personal life and your business
X-ALT-DESC;FMTTYPE=text/html:<span style="color: rgb(5\, 5\, 5)\;">Ideas &amp\; Insights is an innovative and creative program held quarterly by the Bixby Metro Chamber of Commerce. Experts in their fields are invited to share their expertise on topics to help you grow and maintain a thriving business.&nbsp\;</span><em><span style="color: rgb(5\, 5\, 5)\;">Formerly known as Small Business Education.</span></em><br />\n<br />\n<strong style="color: rgb(51\, 51\, 51)\; font-family: sans-serif\, Arial\, Verdana\, &quot\;Trebuchet MS&quot\;\; font-size: 13px\;"><u>Speaker</u></strong><span style="color: rgb(51\, 51\, 51)\; font-family: sans-serif\, Arial\, Verdana\, &quot\;Trebuchet MS&quot\;\; font-size: 13px\; background-color: rgb(255\, 255\, 255)\;">: Denise Reid</span><br style="color: rgb(51\, 51\, 51)\; font-family: sans-serif\, Arial\, Verdana\, &quot\;Trebuchet MS&quot\;\; font-size: 13px\;" />\n<strong style="color: rgb(51\, 51\, 51)\; font-family: sans-serif\, Arial\, Verdana\, &quot\;Trebuchet MS&quot\;\; font-size: 13px\;"><u>Topic</u></strong><span style="color: rgb(51\, 51\, 51)\; font-family: sans-serif\, Arial\, Verdana\, &quot\;Trebuchet MS&quot\;\; font-size: 13px\; background-color: rgb(255\, 255\, 255)\;">:&nbsp\;</span><span style="font-size: 14.6667px\;"><span style="white-space:pre"> Unc</span></span><span style="font-size:11.0pt\;">onscious Bias and How to Combat it</span><br />\n<br style="color: rgb(51\, 51\, 51)\; font-family: sans-serif\, Arial\, Verdana\, &quot\;Trebuchet MS&quot\;\; font-size: 13px\;" />\n<br />\n<span style="color: rgb(51\, 51\, 51)\; font-family: sans-serif\, Arial\, Verdana\, &quot\;Trebuchet MS&quot\;\; font-size: 13px\; background-color: rgb(255\, 255\, 255)\;">This will be part two of a four- part series focusing on Diversity\, Equity\, and Inclusion in 2023. Topics will include definitions\, current research\, and how to become more aware about the importance and benefits of becoming more aware of your circle and influence in both your personal life and your business</span>
LOCATION:The HUB Event Center sponsored by Andy B's Bowl Social & Two Men & a Truck
UID:e.1611.8702
SEQUENCE:3
DTSTAMP:20260422T070328Z
URL:https://portal.bixbychamber.com/events/details/2023-june-ideas-insights-8702
END:VEVENT

END:VCALENDAR
