BEGIN:VCALENDAR
VERSION:2.0
PRODID:-//ChamberMaster//Event Calendar 2.0//EN
METHOD:PUBLISH
X-PUBLISHED-TTL:P3D
REFRESH-INTERVAL:P3D
CALSCALE:GREGORIAN
BEGIN:VEVENT
DTSTART:20230803T140000Z
DTEND:20230803T150000Z
X-MICROSOFT-CDO-ALLDAYEVENT:FALSE
SUMMARY:2023 August Ideas & Insights
DESCRIPTION:Ideas & Insights is an innovative and creative program held quarterly by the Bixby Metro Chamber of Commerce. Experts in their fields are invited to share their expertise on topics to help you grow and maintain a thriving business. Formerly known as Small Business Education.\n\n\n\nSpeaker: Denise Reid \n\nTopic: DEI Session Part 3 - Cultural Competence
X-ALT-DESC;FMTTYPE=text/html:<span style="color: rgb(5\, 5\, 5)\;">Ideas &amp\; Insights is an innovative and creative program held quarterly by the Bixby Metro Chamber of Commerce. Experts in their fields are invited to share their expertise on topics to help you grow and maintain a thriving business.&nbsp\;</span><em><span style="color: rgb(5\, 5\, 5)\;">Formerly known as Small Business Education.</span></em><br />\n<br />\n<font color="#050505">Speaker: Denise Reid&nbsp\;<br />\nTopic:&nbsp\;</font><span style="font-size:12px\;"><span class="NormalTextRun SCXW123552374 BCX4" style="margin: 0px\; padding: 0px\; -webkit-user-select: text\; -webkit-user-drag: none\; caret-color: rgba(0\, 0\, 0\, 0.847)\; color: rgba(0\, 0\, 0\, 0.847)\; font-family: Arial\, Arial_EmbeddedFont\, Arial_MSFontService\, sans-serif\; white-space: pre-wrap\; -webkit-nbsp-mode: normal !important\;">DEI Session Part 3 - Cultural Competence</span></span>
LOCATION:The HUB 12 West Dawes Bixby\, OK 74008
UID:e.1611.8703
SEQUENCE:3
DTSTAMP:20260422T043952Z
URL:https://portal.bixbychamber.com/events/details/2023-august-ideas-insights-8703
END:VEVENT

END:VCALENDAR
