BEGIN:VCALENDAR
VERSION:2.0
PRODID:-//ChamberMaster//Event Calendar 2.0//EN
METHOD:PUBLISH
X-PUBLISHED-TTL:P3D
REFRESH-INTERVAL:P3D
CALSCALE:GREGORIAN
BEGIN:VEVENT
DTSTART:20230818T220000Z
DTEND:20230819T000000Z
X-MICROSOFT-CDO-ALLDAYEVENT:FALSE
SUMMARY:2023 August Back to School Bash
DESCRIPTION:An event to celebrate the start of the Bixby Public Schools season. This event will include booths\, food\, activities\, and fun for the whole family in downtown Bixby.
X-ALT-DESC;FMTTYPE=text/html:An event to celebrate the start of the Bixby Public Schools season. This event will include booths\, food\, activities\, and fun for the whole family in downtown Bixby.
LOCATION:Charley Young Event Park 50 West Dawes Avenue Bixby\, OK 74008
UID:e.1611.8684
SEQUENCE:3
DTSTAMP:20260422T043821Z
URL:https://portal.bixbychamber.com/events/details/2023-august-back-to-school-bash-8684
END:VEVENT

END:VCALENDAR
