BEGIN:VCALENDAR
VERSION:2.0
PRODID:-//ChamberMaster//Event Calendar 2.0//EN
METHOD:PUBLISH
X-PUBLISHED-TTL:P3D
REFRESH-INTERVAL:P3D
CALSCALE:GREGORIAN
BEGIN:VEVENT
DTSTART:20220518T200000Z
DTEND:20220519T000000Z
X-MICROSOFT-CDO-ALLDAYEVENT:FALSE
SUMMARY:2022 Operation Thank You - Member Appreciation Event
DESCRIPTION:EMAIL EVENTS@BIXBYCHAMBER.COM TO REGISTER\n\n\nOperation Thank You is a program that launched in 2011.  The goal of the program was to show appreciation to each member and thank them for their continued support.  Volunteers visit businesses to give thanks and encourage involvement in Chamber events and ask members to attend one function for the opportunity to be entered for some great giveaways.  By supporting this program\, you become part of a hands-on appreciation effort and promote your business to every Chamber Member in a unique way. in 2022\, we are celebrating with a new member appreciation event hosted by the Bixby Metro Chamber's Ambassador Committee. Chamber Members\, their staff\, and their families are invited to enjoy a relaxed atmosphere where personal connections and networking are encouraged.
X-ALT-DESC;FMTTYPE=text/html:<div style="text-align: center\;"><span style="color:#FF0000\;"><span style="font-size:18px\;"><strong>EMAIL <a href="mailto:events@bixbychamber.com?subject=Operation%20Thank%20You%20Member%20Appreciation%20Event%20Registration">EVENTS@BIXBYCHAMBER.COM</a> TO REGISTER</strong></span></span></div>\n<br />\nOperation Thank You is a program that launched in 2011.&nbsp\; The goal of the program was to show appreciation to each member and thank them for their continued support.&nbsp\; Volunteers visit businesses to give thanks and encourage involvement in Chamber events and ask members to attend one function for the opportunity to be entered for some great giveaways.&nbsp\; By supporting this program\, you become part of a hands-on appreciation effort and promote your business to every Chamber Member in a unique way. in 2022\, we are celebrating with a new member appreciation event hosted by the Bixby Metro Chamber&#39\;s Ambassador Committee. Chamber Members\, their staff\, and their families are invited to enjoy a relaxed atmosphere where personal connections and networking are encouraged.&nbsp\;<br />\n<br />\n&nbsp\;
LOCATION:Charley Young Event Park 50 West Dawes Avenue Bixby\, OK 74008
UID:e.1611.7675
SEQUENCE:3
DTSTAMP:20260423T021344Z
URL:https://portal.bixbychamber.com/events/details/2022-operation-thank-you-member-appreciation-event-7675
END:VEVENT

END:VCALENDAR
