BEGIN:VCALENDAR
VERSION:2.0
PRODID:-//ChamberMaster//Event Calendar 2.0//EN
METHOD:PUBLISH
X-PUBLISHED-TTL:P3D
REFRESH-INTERVAL:P3D
CALSCALE:GREGORIAN
BEGIN:VEVENT
DTSTART:20220309T143000Z
DTEND:20220309T153000Z
X-MICROSOFT-CDO-ALLDAYEVENT:FALSE
SUMMARY:2022 March Networking Coffee with Bixby Metro Chamber Ambassadors
DESCRIPTION:Come and network with our Chamber Ambassadors! Relaxed time to grab a great cup of coffee and meet some new faces.
X-ALT-DESC;FMTTYPE=text/html:Come and network with our Chamber Ambassadors! Relaxed time to grab a great cup of coffee and meet some new faces.&nbsp\;<br />\n<br />\n&nbsp\;
LOCATION:Residences at Boardwalk 12265 S Memorial Drive Bixby\, OK 74008
UID:e.1611.8301
SEQUENCE:3
DTSTAMP:20260423T045913Z
URL:https://portal.bixbychamber.com/events/details/2022-march-networking-coffee-with-bixby-metro-chamber-ambassadors-8301
END:VEVENT

END:VCALENDAR
