BEGIN:VCALENDAR
VERSION:2.0
PRODID:-//ChamberMaster//Event Calendar 2.0//EN
METHOD:PUBLISH
X-PUBLISHED-TTL:P3D
REFRESH-INTERVAL:P3D
CALSCALE:GREGORIAN
BEGIN:VEVENT
DTSTART:20220812T140000Z
DTEND:20220812T150000Z
X-MICROSOFT-CDO-ALLDAYEVENT:FALSE
SUMMARY:2022 August Ideas & Insights
DESCRIPTION:Ideas & Insights is an innovative and creative program held quarterly by the Bixby Metro Chamber of Commerce. Experts in their fields are invited to share their expertise on topics to help you grow and maintain a thriving business. Formerly known as Small Business Education.\n\n\n\nSpeaker: Jennifer Holk\, Negotiations Professor at The University of Tulsa\n\nTopic: Negotiation Basics
X-ALT-DESC;FMTTYPE=text/html:<span style="color: rgb(5\, 5\, 5)\;">Ideas &amp\; Insights is an innovative and creative program held quarterly by the Bixby Metro Chamber of Commerce. Experts in their fields are invited to share their expertise on topics to help you grow and maintain a thriving business.&nbsp\;</span><em><span style="color: rgb(5\, 5\, 5)\;">Formerly known as Small Business Education.</span></em><br />\n<br />\n<font color="#050505">Speaker: Jennifer Holk\, Negotiations Professor at The University of Tulsa<br />\nTopic: Negotiation Basics</font>
LOCATION:The HUB 12 West Dawes Bixby\, OK 74008
UID:e.1611.7691
SEQUENCE:3
DTSTAMP:20260422T221810Z
URL:https://portal.bixbychamber.com/events/details/2022-august-ideas-insights-7691
END:VEVENT

END:VCALENDAR
