BEGIN:VCALENDAR
VERSION:2.0
PRODID:-//ChamberMaster//Event Calendar 2.0//EN
METHOD:PUBLISH
X-PUBLISHED-TTL:P3D
REFRESH-INTERVAL:P3D
CALSCALE:GREGORIAN
BEGIN:VEVENT
DTSTART:20210518T150000Z
DTEND:20210518T160000Z
X-MICROSOFT-CDO-ALLDAYEVENT:FALSE
SUMMARY:2021 May Ideas & Insights
DESCRIPTION:Ideas & Insights is an innovative and creative program held quarterly via Zoom by the Bixby Development Foundation. Experts in their fields are invited to share their expertise on topics to help you grow and maintain a thriving business. Formerly known as Small Business Education\n\n \nTopic: Why People Start Podcasts\n\nSpeaker: Charis and Will Retherford\, Citizens of Sound
X-ALT-DESC;FMTTYPE=text/html:<span style="font-family:arial\;"><span style="font-size:14px\;">Ideas &amp\; Insights is an innovative and creative program held quarterly via Zoom by the Bixby Development Foundation. Experts in their fields are invited to share their expertise on topics to help you grow and maintain a thriving business.&nbsp\;<span style="font-size:12px\;"><em>Formerly known as Small Business Education</em></span></span></span><br />\n&nbsp\;\n<div style="color: rgb(68\, 68\, 68)\; font-family: Calibri\, Helvetica\, Arial\, sans-serif\; font-size: 14px\; white-space: pre-wrap\;"><span style="font-family: Arial\, Verdana\, Helvetica\, sans-serif\; color: rgb(0\, 0\, 0)\; font-weight: bold\;">Topic</span><span style="font-family: Arial\, Verdana\, Helvetica\, sans-serif\; color: rgb(0\, 0\, 0)\;">: Why People Start Podcasts</span></div>\n\n<div style="color: rgb(68\, 68\, 68)\; font-family: Calibri\, Helvetica\, Arial\, sans-serif\; font-size: 14px\; white-space: pre-wrap\;"><span style="font-family: Arial\, Verdana\, Helvetica\, sans-serif\; color: rgb(0\, 0\, 0)\; font-weight: bold\;">Speaker</span><span style="font-family: Arial\, Verdana\, Helvetica\, sans-serif\; color: rgb(0\, 0\, 0)\;">: Charis and Will Retherford\, Citizens of Sound</span></div>\n
LOCATION:Virtual via Zoom https://us02web.zoom.us/j/87342956744?pwd=aUFOQ1NFdUpTdlc1Qm1OK3AzV2Q3QT09
UID:e.1611.7451
SEQUENCE:3
DTSTAMP:20260421T215024Z
URL:https://portal.bixbychamber.com/events/details/2021-may-ideas-insights-7451
END:VEVENT

END:VCALENDAR
