BEGIN:VCALENDAR
VERSION:2.0
PRODID:-//ChamberMaster//Event Calendar 2.0//EN
METHOD:PUBLISH
X-PUBLISHED-TTL:P3D
REFRESH-INTERVAL:P3D
CALSCALE:GREGORIAN
BEGIN:VEVENT
DTSTART:20160526T223000Z
DTEND:20160527T010000Z
X-MICROSOFT-CDO-ALLDAYEVENT:FALSE
SUMMARY:2016 Taste of Bixby
DESCRIPTION:The Taste of Bixby is the networking event of the year with live music\, great food and drinks. It's an opportunity for networkers to meet with prospective clients in a casual fun atmosphere. Whatever your in the mood for all your cravings will be satisfied at the 2016 Taste of Bixby. The event is open to the public.\n\n \n\nConfirmed Vendors:\n\nAnheuser-Busch- Costco Wholesale\n\nDave and Buster's- Doc's County Mart\n\nGoodcents Deli Fresh Subs\n\nHard Rock Hotel and Casino- Java Dave's Coffee\n\nJimmy's Egg- Noodles and Company-Nothing Bundt Cakes- PJ's Pub and Grill\n\nRaising Cane's Chicken Fingers- Reasor's\n\nTREYS Bar and Grill- Sam's Club 6342-\n\nSpartan Nutrition\n\n\nOnline registration is closed. Tickets will be available at the door. All tickets purchased on week of the event will be at will call under the purchaser's name.
X-ALT-DESC;FMTTYPE=text/html:<span style="font-family:arial\;">The Taste of Bixby is the networking event of the year with live music\, great food and drinks. It&#39\;s an opportunity for networkers to meet with prospective clients in a casual fun atmosphere. Whatever your in the mood for all your cravings will be satisfied at the 2016 Taste of Bixby. The event is open to the public.</span><br />\n&nbsp\;\n<div style="text-align: center\;">\n<address><span style="font-size:12px\;"><span style="font-family:verdana\;"><small><strong>Confirmed Vendors:</strong></small></span></span></address>\n\n<address _mce_style="font-family: Arial\, Helvetica\, sans-serif\; text-align: center\; font-size: 8pt\;" align="center"><span style="font-size:12px\;"><span style="font-family:verdana\;"><small>Anheuser-Busch- Costco Wholesale</small></span></span></address>\n\n<address _mce_style="font-family: Arial\, Helvetica\, sans-serif\; text-align: center\; font-size: 8pt\;" align="center"><span style="font-size:12px\;"><span style="font-family:verdana\;"><small>Dave and Buster&#39\;s-&nbsp\;Doc&#39\;s County Mart</small></span></span></address>\n\n<address _mce_style="font-family: Arial\, Helvetica\, sans-serif\; text-align: center\; font-size: 8pt\;" align="center"><span style="font-size:12px\;"><span style="font-family:verdana\;"><small>Goodcents Deli Fresh Subs</small></span></span></address>\n\n<address _mce_style="font-family: Arial\, Helvetica\, sans-serif\; text-align: center\;" align="center"><span style="font-size:12px\;"><span style="font-family:verdana\;"><small><em _mce_style="color: #000000\; font-size: 8pt\;" style="color: rgb(0\, 0\, 0)\; font-size: 8pt\;"><span _mce_style="font-size: 8pt\;">Hard Rock Hotel and Casino-&nbsp\;Java Dave&#39\;s Coffee<br />\nJimmy&#39\;s Egg- Noodles and Company-</span><span _mce_style="font-size: 8pt\;">Nothing&nbsp\;</span><span _mce_style="font-size: 8pt\;">Bundt</span><span _mce_style="font-size: 8pt\;">&nbsp\;Cakes-&nbsp\;PJ&#39\;s Pub and Grill<br />\nRaising Cane&#39\;s Chicken Fingers- Reasor&#39\;s</span></em></small></span></span></address>\n\n<address _mce_style="font-family: Arial\, Helvetica\, sans-serif\; text-align: center\;" align="center"><span style="font-size:12px\;"><span style="font-family:verdana\;"><small><span _mce_style="font-size: 8pt\;">TREYS Bar and Grill- Sam&#39\;s Club 6342-</span></small></span></span></address>\n\n<address _mce_style="font-family: Arial\, Helvetica\, sans-serif\; text-align: center\;" align="center"><span style="font-size:12px\;"><span style="font-family:verdana\;"><small><span _mce_style="font-size: 8pt\;">Spartan Nutrition</span></small></span></span></address>\n<br />\nOnline registration is closed. Tickets will be available&nbsp\;at the door. All tickets purchased on week of the event will be at will call under the purchaser&#39\;s name.</div>\n
LOCATION:SpiritBank Event Center Arena 10441 South Regal Boulevard Tulsa\, OK 74133
UID:e.1611.2718
SEQUENCE:3
DTSTAMP:20260419T131120Z
URL:https://portal.bixbychamber.com/events/details/2016-taste-of-bixby-2718
END:VEVENT

END:VCALENDAR
