BEGIN:VCALENDAR
VERSION:2.0
PRODID:-//ChamberMaster//Event Calendar 2.0//EN
METHOD:PUBLISH
X-PUBLISHED-TTL:P3D
REFRESH-INTERVAL:P3D
CALSCALE:GREGORIAN
BEGIN:VEVENT
DTSTART:20160318T150000Z
DTEND:20160318T170000Z
X-MICROSOFT-CDO-ALLDAYEVENT:FALSE
SUMMARY:2016 SMALL BUSINESS ROUNDTABLE hosted by C G Olsen PC
DESCRIPTION:IT'S NOT TOO LATE\n\nFOR 2015 TAX SAVING STRATEGIES!\n\nYOU'VE ALREADY FILED?   ARE YOU STUCK?\n\npresenter:  Christopher G Olsen CPA\n\nJoin us -- new topic weekly
X-ALT-DESC;FMTTYPE=text/html:<div style="text-align:center"><strong><span style="font-family:comic sans ms"><span style="font-size:22px">IT&#39\;S NOT TOO LATE<br />\n<span style="font-size:16px"><span style="font-size:22px">FOR 2015 TAX SAVING STRATEGIES!</span><br />\n<span style="font-size:20px"><span style="font-family:courier new">YOU&#39\;VE ALREADY FILED? &nbsp\; ARE YOU STUCK?<br />\n<span style="font-family:comic sans ms"><span style="font-size:18px">presenter: &nbsp\;Christopher G Olsen CPA<br />\n<span style="font-size:12px"><span style="font-family:verdana">Join us -- new topic weekly</span></span></span></span></span></span></span></span></span></strong><br />\n&nbsp\;</div>\n
LOCATION:6705 E 81st St Suite 195\, Tulsa\, OK 74133 (81st & Sheridan)
UID:e.1611.3275
SEQUENCE:3
DTSTAMP:20260419T170947Z
URL:https://portal.bixbychamber.com/events/details/2016-small-business-roundtable-hosted-by-c-g-olsen-pc-03-18-2016-3275
END:VEVENT

END:VCALENDAR
