BEGIN:VCALENDAR
VERSION:2.0
PRODID:-//ChamberMaster//Event Calendar 2.0//EN
METHOD:PUBLISH
X-PUBLISHED-TTL:P3D
REFRESH-INTERVAL:P3D
CALSCALE:GREGORIAN
BEGIN:VEVENT
DTSTART:20160114T223000Z
DTEND:20160114T230000Z
X-MICROSOFT-CDO-ALLDAYEVENT:FALSE
SUMMARY:2016 Ribbon Cutting- Balance Pilates
DESCRIPTION:Please join us for a Ribbon Cutting as we welcome Balance Pilates to the Bixby Metro Chamber of Commerce.
X-ALT-DESC;FMTTYPE=text/html:Please join us for a Ribbon Cutting as we welcome Balance Pilates to the Bixby Metro Chamber of Commerce.
LOCATION:Balance Pilates 8011-A South Sheridan Road Tulsa\, OK 74133
UID:e.1611.1700
SEQUENCE:3
DTSTAMP:20260419T182823Z
URL:https://portal.bixbychamber.com/events/details/2016-ribbon-cutting-balance-pilates-01-14-2016-1700
END:VEVENT

END:VCALENDAR
