BEGIN:VCALENDAR
VERSION:2.0
PRODID:-//ChamberMaster//Event Calendar 2.0//EN
METHOD:PUBLISH
X-PUBLISHED-TTL:P3D
REFRESH-INTERVAL:P3D
CALSCALE:GREGORIAN
BEGIN:VEVENT
DTSTART:20160204T233000Z
DTEND:20160205T000000Z
X-MICROSOFT-CDO-ALLDAYEVENT:FALSE
SUMMARY:2016 Ribbon Cutting and Open House: SouthPoint Church
DESCRIPTION:Please join us for a Ribbon Cutting and Open House welcoming SouthPoint Church to the Bixby Metro Chamber of Commerce.
X-ALT-DESC;FMTTYPE=text/html:Please join us for a Ribbon Cutting and Open House welcoming SouthPoint&nbsp\;Church to the Bixby Metro Chamber of Commerce.
LOCATION:SouthPoint Church 13164 South Memorial Drive Bixby\, OK 74008
UID:e.1611.2753
SEQUENCE:3
DTSTAMP:20260419T171532Z
URL:https://portal.bixbychamber.com/events/details/2016-ribbon-cutting-and-open-house-southpoint-church-02-04-2016-2753
END:VEVENT

END:VCALENDAR
