BEGIN:VCALENDAR
VERSION:2.0
PRODID:-//ChamberMaster//Event Calendar 2.0//EN
METHOD:PUBLISH
X-PUBLISHED-TTL:P3D
REFRESH-INTERVAL:P3D
CALSCALE:GREGORIAN
BEGIN:VEVENT
DTSTART:20160210T223000Z
DTEND:20160211T000000Z
X-MICROSOFT-CDO-ALLDAYEVENT:FALSE
SUMMARY:2016 Ribbon Cutting and Grand Opening: Coldwell Banker Select Bixby
DESCRIPTION:Please join us for a Ribbon Cutting and Grand Opening as we welcome Coldwell Banker Select Bixby to the Bixby Metro Chamber of Commerce and the community.\n\n\n\nDrinks and hors d'oeuvres will be served.
X-ALT-DESC;FMTTYPE=text/html:Please join us for a Ribbon Cutting and Grand Opening as we welcome Coldwell Banker Select Bixby to the Bixby Metro Chamber of Commerce and the community.<br />\n<br />\nDrinks and hors d&#39\;oeuvres will be served.
LOCATION:Coldwell Banker Select Bixby 11719 South Memorial \\Drive Bixby\, OK 74008
UID:e.1611.2792
SEQUENCE:3
DTSTAMP:20260419T171548Z
URL:https://portal.bixbychamber.com/events/details/2016-ribbon-cutting-and-grand-opening-coldwell-banker-select-bixby-02-10-2016-2792
END:VEVENT

END:VCALENDAR
