BEGIN:VCALENDAR
VERSION:2.0
PRODID:-//ChamberMaster//Event Calendar 2.0//EN
METHOD:PUBLISH
X-PUBLISHED-TTL:P3D
REFRESH-INTERVAL:P3D
CALSCALE:GREGORIAN
BEGIN:VEVENT
DTSTART:20160124T010000Z
DTEND:20160124T040000Z
X-MICROSOFT-CDO-ALLDAYEVENT:FALSE
SUMMARY:2016 PSO Night ORU vs. Omaha basketball game
DESCRIPTION:Join the Golden Eagles and PSO for the ORU vs. Omaha game. Tickets are free for all that register. Enjoy a night our on Public Service Company of Oklahoma!\n\n\n\nGet tickets here!
X-ALT-DESC;FMTTYPE=text/html:Join the Golden Eagles and PSO for the ORU vs. Omaha game. Tickets are free for all that register. Enjoy a night our on Public Service Company of Oklahoma!<br />\n<br />\n<a href="http://www7.ticketingcentral.com/V2/PickASection.aspx?t=503688908D31C05D9986BFE&amp\;og=-1">Get tickets here!</a>
LOCATION:
UID:e.1611.2759
SEQUENCE:3
DTSTAMP:20260419T182904Z
URL:https://portal.bixbychamber.com/events/details/2016-pso-night-oru-vs-omaha-basketball-game-01-23-2016-2759
END:VEVENT

END:VCALENDAR
