BEGIN:VCALENDAR
VERSION:2.0
PRODID:-//ChamberMaster//Event Calendar 2.0//EN
METHOD:PUBLISH
X-PUBLISHED-TTL:P3D
REFRESH-INTERVAL:P3D
CALSCALE:GREGORIAN
BEGIN:VEVENT
DTSTART:20150919T130000Z
DTEND:20150919T230000Z
X-MICROSOFT-CDO-ALLDAYEVENT:FALSE
SUMMARY:2015 Youth Mental Health First Aid
DESCRIPTION:Need LPC\, LMFT or Case Manager CEU's? Beef up your Youth MHFA knowledge and earn your CEU's today! This class is perfect for current and soon to be educators\, counselors and law enforcement professionals.
X-ALT-DESC;FMTTYPE=text/html:<span style="color:black\;"><span style="font-family:verdana\,sans-serif\;"><span style="font-size:10.0pt\;">Need&nbsp\;<strong>LPC</strong>\,&nbsp\;<strong>LMFT</strong>&nbsp\;or&nbsp\;<strong>Case Manager CEU&#39\;s</strong>? Beef up your&nbsp\;<strong>Youth MHFA knowledge</strong>&nbsp\;and earn your&nbsp\;<strong>CEU&#39\;s</strong>&nbsp\;today! This class is perfect for current and soon to be educators\, counselors and law enforcement professionals.&nbsp\;</span></span></span>
LOCATION:NSU Broken Arrow Campus 3100 E New Orleans St Broken Arrow\, OK 74014
UID:e.1611.1671
SEQUENCE:3
DTSTAMP:20260419T234730Z
URL:https://portal.bixbychamber.com/events/details/2015-youth-mental-health-first-aid-09-19-2015-1671
END:VEVENT

END:VCALENDAR
