BEGIN:VCALENDAR
VERSION:2.0
PRODID:-//ChamberMaster//Event Calendar 2.0//EN
METHOD:PUBLISH
X-PUBLISHED-TTL:P3D
REFRESH-INTERVAL:P3D
CALSCALE:GREGORIAN
BEGIN:VEVENT
DTSTART:20150327T150000Z
DTEND:20150328T010000Z
X-MICROSOFT-CDO-ALLDAYEVENT:FALSE
SUMMARY:2015 US Cellular Community Appreciation Celebration
DESCRIPTION:US Cellular is having a community appreciation celebration! We will have some great giveaways- register to win a pair of OKC Thunder tickets or even an iPad Air 2! Food and drinks will be provided. We will be visited by Rumble- the Oklahoma City Thunders mascot from 1:30-3:00. We are offering great deals on our service as well as 25% off all accessories. Bring the kids to meet Rumble and bring home a free souvenir photo!
X-ALT-DESC;FMTTYPE=text/html:<span style="line-height: 20.7999992370605px\;">US Cellular is having a community appreciation celebration! We will have some great giveaways- register to win a pair of OKC Thunder tickets or even an iPad Air 2! Food and drinks will be provided. We will be visited by Rumble- the Oklahoma City Thunders mascot from 1:30-3:00. We are offering great deals on our service as well as 25% off all accessories. Bring the kids to meet Rumble and bring home a free&nbsp\;</span><span style="line-height: 20.7999992370605px\;">souvenir</span><span style="line-height: 20.7999992370605px\;">&nbsp\;photo!</span>
LOCATION:US Cellular 101st & Memorial 8022 East 101st Street Tulsa\, OK 74133
UID:e.1611.1574
SEQUENCE:3
DTSTAMP:20260420T081836Z
URL:https://portal.bixbychamber.com/events/details/2015-us-cellular-community-appreciation-celebration-03-27-2015-1574
END:VEVENT

END:VCALENDAR
