BEGIN:VCALENDAR
VERSION:2.0
PRODID:-//ChamberMaster//Event Calendar 2.0//EN
METHOD:PUBLISH
X-PUBLISHED-TTL:P3D
REFRESH-INTERVAL:P3D
CALSCALE:GREGORIAN
BEGIN:VEVENT
DTSTART:20150701T230000Z
DTEND:20150702T010000Z
X-MICROSOFT-CDO-ALLDAYEVENT:FALSE
SUMMARY:2015 Tulsa River Town Hall
DESCRIPTION:
X-ALT-DESC;FMTTYPE=text/html:
LOCATION:Perkins Family Auditorium\, OU- Tulsa Learning Center 4502 East 41st Street Tulsa\, OK 74106
UID:e.1611.1631
SEQUENCE:3
DTSTAMP:20260420T022151Z
URL:https://portal.bixbychamber.com/events/details/2015-tulsa-river-town-hall-07-01-2015-1631
END:VEVENT

END:VCALENDAR
