BEGIN:VCALENDAR
VERSION:2.0
PRODID:-//ChamberMaster//Event Calendar 2.0//EN
METHOD:PUBLISH
X-PUBLISHED-TTL:P3D
REFRESH-INTERVAL:P3D
CALSCALE:GREGORIAN
BEGIN:VEVENT
DTSTART:20150629T230000Z
DTEND:20150630T010000Z
X-MICROSOFT-CDO-ALLDAYEVENT:FALSE
SUMMARY:2015 Tulsa River Town Hall
DESCRIPTION:
X-ALT-DESC;FMTTYPE=text/html:
LOCATION:Jewish Federation of Tulsa 2021 East 71st Street Tulsa\, OK 74136
UID:e.1611.1630
SEQUENCE:3
DTSTAMP:20260420T034616Z
URL:https://portal.bixbychamber.com/events/details/2015-tulsa-river-town-hall-06-29-2015-1630
END:VEVENT

END:VCALENDAR
