BEGIN:VCALENDAR
VERSION:2.0
PRODID:-//ChamberMaster//Event Calendar 2.0//EN
METHOD:PUBLISH
X-PUBLISHED-TTL:P3D
REFRESH-INTERVAL:P3D
CALSCALE:GREGORIAN
BEGIN:VEVENT
DTSTART:20150615T230000Z
DTEND:20150616T010000Z
X-MICROSOFT-CDO-ALLDAYEVENT:FALSE
SUMMARY:2015 Tulsa River Town Hall
DESCRIPTION:
X-ALT-DESC;FMTTYPE=text/html:
LOCATION:Hardesty Regional Library 8316 East 93rd Street Tulsa\, OK 74133
UID:e.1611.1628
SEQUENCE:3
DTSTAMP:20260420T051411Z
URL:https://portal.bixbychamber.com/events/details/2015-tulsa-river-town-hall-06-15-2015-1628
END:VEVENT

END:VCALENDAR
