BEGIN:VCALENDAR
VERSION:2.0
PRODID:-//ChamberMaster//Event Calendar 2.0//EN
METHOD:PUBLISH
X-PUBLISHED-TTL:P3D
REFRESH-INTERVAL:P3D
CALSCALE:GREGORIAN
BEGIN:VEVENT
DTSTART:20150610T230000Z
DTEND:20150611T010000Z
X-MICROSOFT-CDO-ALLDAYEVENT:FALSE
SUMMARY:2015 Tulsa River Town Hall
DESCRIPTION:
X-ALT-DESC;FMTTYPE=text/html:
LOCATION:Martin Regional Library 2601 South Garnett Road Tulsa\, OK 74129
UID:e.1611.1626
SEQUENCE:3
DTSTAMP:20260420T034721Z
URL:https://portal.bixbychamber.com/events/details/2015-tulsa-river-town-hall-06-10-2015-1626
END:VEVENT

END:VCALENDAR
