BEGIN:VCALENDAR
VERSION:2.0
PRODID:-//ChamberMaster//Event Calendar 2.0//EN
METHOD:PUBLISH
X-PUBLISHED-TTL:P3D
REFRESH-INTERVAL:P3D
CALSCALE:GREGORIAN
BEGIN:VEVENT
DTSTART:20150625T160000Z
DTEND:20150625T163000Z
X-MICROSOFT-CDO-ALLDAYEVENT:FALSE
SUMMARY:2015 TTCU the Credit Union Corporate Offices Groundbreaking
DESCRIPTION:Please join TTCU the Credit Union as they break ground on their new corporate offices.
X-ALT-DESC;FMTTYPE=text/html:Please join TTCU&nbsp\;the Credit Union as they break ground on their new corporate offices.
LOCATION:10081 East 81st Street Tulsa OK
UID:e.1611.1640
SEQUENCE:3
DTSTAMP:20260420T052814Z
URL:https://portal.bixbychamber.com/events/details/2015-ttcu-the-credit-union-corporate-offices-groundbreaking-06-25-2015-1640
END:VEVENT

END:VCALENDAR
