BEGIN:VCALENDAR
VERSION:2.0
PRODID:-//ChamberMaster//Event Calendar 2.0//EN
METHOD:PUBLISH
X-PUBLISHED-TTL:P3D
REFRESH-INTERVAL:P3D
CALSCALE:GREGORIAN
BEGIN:VEVENT
DTSTART:20150430T233000Z
DTEND:20150501T003000Z
X-MICROSOFT-CDO-ALLDAYEVENT:FALSE
SUMMARY:2015 The Power of Music
DESCRIPTION:Join Music Therapist Brandy Jenkins as she explains the ways that music can help with the healing process of all types of illnesses.
X-ALT-DESC;FMTTYPE=text/html:<span style="font-size:12px\;"><span style="font-family:arial\;">Join Music Therapist Brandy Jenkins as she explains the ways that music can help with the healing process of all types of illnesses.</span></span>
LOCATION:Forest Hills Retirement Community 4304 W Houston Broken Arrow\, OK (on 81st between Garnett and 129th)
UID:e.1611.1591
SEQUENCE:3
DTSTAMP:20260420T064631Z
URL:https://portal.bixbychamber.com/events/details/2015-the-power-of-music-04-30-2015-1591
END:VEVENT

END:VCALENDAR
