BEGIN:VCALENDAR
VERSION:2.0
PRODID:-//ChamberMaster//Event Calendar 2.0//EN
METHOD:PUBLISH
X-PUBLISHED-TTL:P3D
REFRESH-INTERVAL:P3D
CALSCALE:GREGORIAN
BEGIN:VEVENT
DTSTART:20150626T220000Z
DTEND:20150627T020000Z
X-MICROSOFT-CDO-ALLDAYEVENT:FALSE
SUMMARY:2015 The Chris Harris Jr. Homecoming Mixer
DESCRIPTION:Join 2015 IBA Award honoree\, Denver Broncos All-Pro and Pro-Bowl cornerback\, and Bixby-native Chris Harris Jr. for a laid-back evening of wine\, hors d'oeuvres and mingling to benefit the Chris Harris Jr. Foundation. The Chris Harris Jr. Homecoming Mixer is an opportunity for friends\, family and community members to come together and mingle with Chris and Leah Harris\, learn more about the Chris Harris Jr. Foundation\, and enjoy delicious food and wine.
X-ALT-DESC;FMTTYPE=text/html:<span style="font-size:12px\;"><span style="font-family:arial\;">Join 2015 IBA Award honoree\, Denver Broncos All-Pro and Pro-Bowl cornerback\, and Bixby-native Chris Harris Jr. for a laid-back evening of wine\, hors d&rsquo\;oeuvres and mingling to benefit the Chris Harris Jr. Foundation.&nbsp\;The Chris Harris Jr. Homecoming Mixer is an opportunity for friends\, family and community members to come together and mingle with Chris and Leah Harris\, learn more about the Chris Harris Jr. Foundation\, and enjoy delicious food and wine.&nbsp\;</span></span>
LOCATION:The Wine Loft 7890 East 106th Place South Tulsa\, OK 74133
UID:e.1611.1639
SEQUENCE:3
DTSTAMP:20260420T052029Z
URL:https://portal.bixbychamber.com/events/details/2015-the-chris-harris-jr-homecoming-mixer-06-26-2015-1639
END:VEVENT

END:VCALENDAR
